Package: AgiMicroRna Version: 2.48.0 Command: /Library/Frameworks/R.framework/Resources/bin/R CMD build --keep-empty-dirs --no-resave-data AgiMicroRna StartedAt: 2023-04-16 19:27:11 -0400 (Sun, 16 Apr 2023) EndedAt: 2023-04-16 19:29:33 -0400 (Sun, 16 Apr 2023) EllapsedTime: 141.3 seconds RetCode: 0 Status: OK PackageFile: AgiMicroRna_2.48.0.tar.gz PackageFileSize: 3.067 MiB