Package: AgiMicroRna Version: 2.48.0 Command: rm -rf AgiMicroRna.buildbin-libdir && mkdir AgiMicroRna.buildbin-libdir && /Users/biocbuild/BBS/utils/build-universal.sh AgiMicroRna_2.48.0.tar.gz /Library/Frameworks/R.framework/Resources/bin/R AgiMicroRna.buildbin-libdir StartedAt: 2023-04-18 13:30:32 -0400 (Tue, 18 Apr 2023) EndedAt: 2023-04-18 13:33:02 -0400 (Tue, 18 Apr 2023) EllapsedTime: 150.7 seconds RetCode: 0 Status: OK PackageFile: AgiMicroRna_2.48.0.tgz PackageFileSize: 3.514 MiB