Package: ASpli Version: 2.8.0 Command: /Library/Frameworks/R.framework/Resources/bin/R CMD build --keep-empty-dirs --no-resave-data ASpli StartedAt: 2023-04-16 20:12:03 -0400 (Sun, 16 Apr 2023) EndedAt: 2023-04-16 20:14:47 -0400 (Sun, 16 Apr 2023) EllapsedTime: 163.5 seconds RetCode: 0 Status: OK PackageFile: ASpli_2.8.0.tar.gz PackageFileSize: 4.778 MiB