Package: ASpli Version: 2.8.0 Command: rm -rf ASpli.buildbin-libdir && mkdir ASpli.buildbin-libdir && /Users/biocbuild/BBS/utils/build-universal.sh ASpli_2.8.0.tar.gz /Library/Frameworks/R.framework/Resources/bin/R ASpli.buildbin-libdir StartedAt: 2023-04-18 13:38:37 -0400 (Tue, 18 Apr 2023) EndedAt: 2023-04-18 13:41:56 -0400 (Tue, 18 Apr 2023) EllapsedTime: 199.4 seconds RetCode: 0 Status: OK PackageFile: ASpli_2.8.0.tgz PackageFileSize: 3.191 MiB