Package: ADAM Version: 1.14.0 Command: /Library/Frameworks/R.framework/Resources/bin/R CMD build --keep-empty-dirs --no-resave-data ADAM StartedAt: 2023-04-16 19:12:21 -0400 (Sun, 16 Apr 2023) EndedAt: 2023-04-16 19:13:11 -0400 (Sun, 16 Apr 2023) EllapsedTime: 49.6 seconds RetCode: 0 Status: OK PackageFile: ADAM_1.14.0.tar.gz PackageFileSize: 321.1 KiB