All our mirrors of open source software are available via http, https, ftp and an onion service. More information about our mirrors including statistics and contact information is available on our mirror info pages.
For information about dotsrc.org and our other services please go to our website.
| File Name ↓ | File Size ↓ | Date ↓ | 
|---|---|---|
| Parent directory/ | - | - | 
| ABSSeq/ | - | 2023-04-19 15:01:53 | 
| ABarray/ | - | 2023-04-19 15:01:53 | 
| ACE/ | - | 2023-04-19 15:01:53 | 
| ACME/ | - | 2023-04-19 15:01:53 | 
| ADAM/ | - | 2023-04-19 15:01:53 | 
| ADAMgui/ | - | 2023-04-19 15:01:53 | 
| ADImpute/ | - | 2023-04-19 15:01:53 | 
| ADaCGH2/ | - | 2023-04-19 15:01:53 | 
| AGDEX/ | - | 2023-04-19 15:01:53 | 
| AIMS/ | - | 2023-04-19 15:01:53 | 
| ALDEx2/ | - | 2023-04-19 15:01:53 | 
| AMARETTO/ | - | 2023-04-19 15:01:53 | 
| AMOUNTAIN/ | - | 2023-04-19 15:01:53 | 
| ANCOMBC/ | - | 2023-04-19 15:01:53 | 
| ANF/ | - | 2023-04-19 15:01:53 | 
| APAlyzer/ | - | 2023-04-19 15:01:53 | 
| APL/ | - | 2023-04-19 15:01:53 | 
| ARRmNormalization/ | - | 2023-04-19 15:01:53 | 
| ASAFE/ | - | 2023-04-19 15:01:53 | 
| ASEB/ | - | 2023-04-19 15:01:53 | 
| ASGSCA/ | - | 2023-04-19 15:01:53 | 
| ASICS/ | - | 2023-04-19 15:01:53 | 
| ASSET/ | - | 2023-04-19 15:01:53 | 
| ASSIGN/ | - | 2023-04-19 15:01:53 | 
| ASURAT/ | - | 2023-04-19 15:01:53 | 
| ASpediaFI/ | - | 2023-04-19 15:01:53 | 
| ASpli/ | - | 2023-04-19 15:01:53 | 
| ATACCoGAPS/ | - | 2023-04-19 15:01:53 | 
| ATACseqQC/ | - | 2023-04-19 15:01:53 | 
| ATACseqTFEA/ | - | 2023-04-19 15:01:53 | 
| AUCell/ | - | 2023-04-19 15:01:53 | 
| AWFisher/ | - | 2023-04-19 15:01:53 | 
| AffiXcan/ | - | 2023-04-19 15:01:53 | 
| AffyCompatible/ | - | 2023-04-19 15:01:53 | 
| AffyRNADegradation/ | - | 2023-04-19 15:01:53 | 
| AgiMicroRna/ | - | 2023-04-19 15:01:53 | 
| AllelicImbalance/ | - | 2023-04-19 15:01:53 | 
| AlphaBeta/ | - | 2023-04-19 15:01:53 | 
| AlpsNMR/ | - | 2023-04-19 15:01:53 | 
| AnVIL/ | - | 2023-04-19 15:01:53 | 
| AnVILBilling/ | - | 2023-04-19 15:01:53 | 
| AnVILPublish/ | - | 2023-04-19 15:01:53 | 
| Anaquin/ | - | 2023-04-19 15:01:53 | 
| AneuFinder/ | - | 2023-04-19 15:01:53 | 
| AnnotationDbi/ | - | 2023-04-19 15:01:53 | 
| AnnotationFilter/ | - | 2023-04-19 15:01:53 | 
| AnnotationForge/ | - | 2023-04-19 15:01:53 | 
| AnnotationHub/ | - | 2023-04-19 15:01:53 | 
| AnnotationHubData/ | - | 2023-04-19 15:01:53 | 
| ArrayExpress/ | - | 2023-04-19 15:01:53 | 
| ArrayExpressHTS/ | - | 2023-04-19 15:01:53 | 
| AssessORF/ | - | 2023-04-19 15:01:53 | 
| BAC/ | - | 2023-04-19 15:01:53 | 
| BADER/ | - | 2023-04-19 15:01:53 | 
| BAGS/ | - | 2023-04-19 15:01:53 | 
| BANDITS/ | - | 2023-04-19 15:01:53 | 
| BASiCS/ | - | 2023-04-19 15:01:53 | 
| BASiCStan/ | - | 2023-04-19 15:01:53 | 
| BBCAnalyzer/ | - | 2023-04-19 15:01:53 | 
| BCRANK/ | - | 2023-04-19 15:01:53 | 
| BDMMAcorrect/ | - | 2023-04-19 15:01:53 | 
| BEARscc/ | - | 2023-04-19 15:01:53 | 
| BEAT/ | - | 2023-04-19 15:01:53 | 
| BEclear/ | - | 2023-04-19 15:01:53 | 
| BGmix/ | - | 2023-04-19 15:01:53 | 
| BHC/ | - | 2023-04-19 15:01:53 | 
| BLMA/ | - | 2023-04-19 15:01:53 | 
| BOBaFIT/ | - | 2023-04-19 15:01:53 | 
| BPRMeth/ | - | 2023-04-19 15:01:53 | 
| BRAIN/ | - | 2023-04-19 15:01:53 | 
| BRGenomics/ | - | 2023-04-19 15:01:53 | 
| BSgenome/ | - | 2023-04-19 15:01:53 | 
| BUMHMM/ | - | 2023-04-19 15:01:53 | 
| BUS/ | - | 2023-04-19 15:01:53 | 
| BUScorrect/ | - | 2023-04-19 15:01:53 | 
| BUSpaRse/ | - | 2023-04-19 15:01:53 | 
| BUSseq/ | - | 2023-04-19 15:01:53 | 
| BaalChIP/ | - | 2023-04-19 15:01:53 | 
| BadRegionFinder/ | - | 2023-04-19 15:01:53 | 
| BaseSpaceR/ | - | 2023-04-19 15:01:53 | 
| Basic4Cseq/ | - | 2023-04-19 15:01:53 | 
| BasicSTARRseq/ | - | 2023-04-19 15:01:53 | 
| BatchQC/ | - | 2023-04-19 15:01:53 | 
| BayesKnockdown/ | - | 2023-04-19 15:01:53 | 
| BayesSpace/ | - | 2023-04-19 15:01:53 | 
| BeadDataPackR/ | - | 2023-04-19 15:01:53 | 
| BgeeCall/ | - | 2023-04-19 15:01:53 | 
| BgeeDB/ | - | 2023-04-19 15:01:53 | 
| BiFET/ | - | 2023-04-19 15:01:53 | 
| BiGGR/ | - | 2023-04-19 15:01:47 | 
| BiRewire/ | - | 2023-04-19 15:01:53 | 
| BiSeq/ | - | 2023-04-19 15:01:53 | 
| BicARE/ | - | 2023-04-19 15:01:53 | 
| BindingSiteFinder/ | - | 2023-04-19 15:01:53 | 
| BioCor/ | - | 2023-04-19 15:01:53 | 
| BioMM/ | - | 2023-04-19 15:01:53 | 
| BioMVCClass/ | - | 2023-04-19 15:01:53 | 
| BioNAR/ | - | 2023-04-19 15:01:53 | 
| BioNERO/ | - | 2023-04-19 15:01:53 | 
| BioNet/ | - | 2023-04-19 15:01:53 | 
| BioNetStat/ | - | 2023-04-19 15:01:53 | 
| BioQC/ | - | 2023-04-19 15:01:53 | 
| BioTIP/ | - | 2023-04-19 15:01:53 | 
| Biobase/ | - | 2023-04-19 15:01:53 | 
| BiocBaseUtils/ | - | 2023-04-19 15:01:53 | 
| BiocCheck/ | - | 2023-04-19 15:01:53 | 
| BiocDockerManager/ | - | 2023-04-19 15:01:53 | 
| BiocFHIR/ | - | 2023-04-19 15:01:53 | 
| BiocFileCache/ | - | 2023-04-19 15:01:53 | 
| BiocGenerics/ | - | 2023-04-19 15:01:53 | 
| BiocIO/ | - | 2023-04-19 15:01:53 | 
| BiocNeighbors/ | - | 2023-04-19 15:01:53 | 
| BiocOncoTK/ | - | 2023-04-19 15:01:53 | 
| BiocParallel/ | - | 2023-04-19 15:01:53 | 
| BiocPkgTools/ | - | 2023-04-19 15:01:53 | 
| BiocSet/ | - | 2023-04-19 15:01:53 | 
| BiocSingular/ | - | 2023-04-19 15:01:53 | 
| BiocSklearn/ | - | 2023-04-19 15:01:53 | 
| BiocStyle/ | - | 2023-04-19 15:01:53 | 
| BiocVersion/ | - | 2023-04-19 15:01:53 | 
| BiocWorkflowTools/ | - | 2023-04-19 15:01:53 | 
| Biostrings/ | - | 2023-04-19 15:01:53 | 
| BitSeq/ | - | 2023-04-19 15:01:53 | 
| BloodGen3Module/ | - | 2023-04-19 15:01:53 | 
| BrainSABER/ | - | 2023-04-19 15:01:53 | 
| BridgeDbR/ | - | 2023-04-19 15:01:53 | 
| BrowserViz/ | - | 2023-04-19 15:01:53 | 
| BubbleTree/ | - | 2023-04-19 15:01:53 | 
| BufferedMatrix/ | - | 2023-04-19 15:01:53 | 
| BufferedMatrixMethods/ | - | 2023-04-19 15:01:53 | 
| BumpyMatrix/ | - | 2023-04-19 15:01:53 | 
| CAEN/ | - | 2023-04-19 15:01:53 | 
| CAFE/ | - | 2023-04-19 15:01:53 | 
| CAGEfightR/ | - | 2023-04-19 15:01:53 | 
| CAGEr/ | - | 2023-04-19 15:01:53 | 
| CAMERA/ | - | 2023-04-19 15:01:53 | 
| CARNIVAL/ | - | 2023-04-19 15:01:53 | 
| CATALYST/ | - | 2023-04-19 15:01:53 | 
| CBEA/ | - | 2023-04-19 15:01:53 | 
| CCPROMISE/ | - | 2023-04-19 15:01:53 | 
| CEMiTool/ | - | 2023-04-19 15:01:53 | 
| CFAssay/ | - | 2023-04-19 15:01:53 | 
| CGEN/ | - | 2023-04-19 15:01:53 | 
| CGHbase/ | - | 2023-04-19 15:01:53 | 
| CGHcall/ | - | 2023-04-19 15:01:53 | 
| CGHnormaliter/ | - | 2023-04-19 15:01:53 | 
| CGHregions/ | - | 2023-04-19 15:01:53 | 
| CHETAH/ | - | 2023-04-19 15:01:53 | 
| CHRONOS/ | - | 2023-04-19 15:01:53 | 
| CIMICE/ | - | 2023-04-19 15:01:53 | 
| CINdex/ | - | 2023-04-19 15:01:53 | 
| CMA/ | - | 2023-04-19 15:01:53 | 
| CNAnorm/ | - | 2023-04-19 15:01:53 | 
| CNEr/ | - | 2023-04-19 15:01:53 | 
| CNORdt/ | - | 2023-04-19 15:01:53 | 
| CNORfeeder/ | - | 2023-04-19 15:01:53 | 
| CNORfuzzy/ | - | 2023-04-19 15:01:53 | 
| CNORode/ | - | 2023-04-19 15:01:53 | 
| CNTools/ | - | 2023-04-19 15:01:53 | 
| CNVMetrics/ | - | 2023-04-19 15:01:53 | 
| CNVPanelizer/ | - | 2023-04-19 15:01:53 | 
| CNVRanger/ | - | 2023-04-19 15:01:53 | 
| CNVfilteR/ | - | 2023-04-19 15:01:53 | 
| CNVgears/ | - | 2023-04-19 15:01:53 | 
| CNViz/ | - | 2023-04-19 15:01:53 | 
| CNVrd2/ | - | 2023-04-19 15:01:53 | 
| COCOA/ | - | 2023-04-19 15:01:53 | 
| CODEX/ | - | 2023-04-19 15:01:53 | 
| COHCAP/ | - | 2023-04-19 15:01:53 | 
| COMPASS/ | - | 2023-04-19 15:01:54 | 
| CONFESS/ | - | 2023-04-19 15:01:54 | 
| CONSTANd/ | - | 2023-04-19 15:01:54 | 
| CORREP/ | - | 2023-04-19 15:01:54 | 
| COSNet/ | - | 2023-04-19 15:01:54 | 
| COTAN/ | - | 2023-04-19 15:01:54 | 
| CRISPRseek/ | - | 2023-04-19 15:01:54 | 
| CRImage/ | - | 2023-04-19 15:01:54 | 
| CSAR/ | - | 2023-04-19 15:01:54 | 
| CSSP/ | - | 2023-04-19 15:01:54 | 
| CSSQ/ | - | 2023-04-19 15:01:54 | 
| CTDquerier/ | - | 2023-04-19 15:01:54 | 
| CTSV/ | - | 2023-04-19 15:01:54 | 
| CancerInSilico/ | - | 2023-04-19 15:01:53 | 
| CancerSubtypes/ | - | 2023-04-19 15:01:53 | 
| Cardinal/ | - | 2023-04-19 15:01:53 | 
| Category/ | - | 2023-04-19 15:01:53 | 
| CausalR/ | - | 2023-04-19 15:01:53 | 
| CeTF/ | - | 2023-04-19 15:01:53 | 
| CellBarcode/ | - | 2023-04-19 15:01:53 | 
| CellBench/ | - | 2023-04-19 15:01:53 | 
| CellMapper/ | - | 2023-04-19 15:01:53 | 
| CellMixS/ | - | 2023-04-19 15:01:53 | 
| CellNOptR/ | - | 2023-04-19 15:01:53 | 
| CellScore/ | - | 2023-04-19 15:01:53 | 
| CellTrails/ | - | 2023-04-19 15:01:53 | 
| CellaRepertorium/ | - | 2023-04-19 15:01:53 | 
| CelliD/ | - | 2023-04-19 15:01:53 | 
| Cepo/ | - | 2023-04-19 15:01:53 | 
| CexoR/ | - | 2023-04-19 15:01:53 | 
| ChAMP/ | - | 2023-04-19 15:01:53 | 
| ChIC/ | - | 2023-04-19 15:01:53 | 
| ChIPComp/ | - | 2023-04-19 15:01:53 | 
| ChIPQC/ | - | 2023-04-19 15:01:53 | 
| ChIPXpress/ | - | 2023-04-19 15:01:53 | 
| ChIPanalyser/ | - | 2023-04-19 15:01:53 | 
| ChIPexoQual/ | - | 2023-04-19 15:01:53 | 
| ChIPpeakAnno/ | - | 2023-04-19 15:01:53 | 
| ChIPseeker/ | - | 2023-04-19 15:01:53 | 
| ChIPseqR/ | - | 2023-04-19 15:01:53 | 
| ChIPsim/ | - | 2023-04-19 15:01:53 | 
| ChemmineOB/ | - | 2023-04-19 15:01:53 | 
| ChemmineR/ | - | 2023-04-19 15:01:53 | 
| Chicago/ | - | 2023-04-19 15:01:53 | 
| ChromHeatMap/ | - | 2023-04-19 15:01:53 | 
| ChromSCape/ | - | 2023-04-19 15:01:53 | 
| CircSeqAlignTk/ | - | 2023-04-19 15:01:53 | 
| CiteFuse/ | - | 2023-04-19 15:01:53 | 
| ClassifyR/ | - | 2023-04-19 15:01:53 | 
| Clomial/ | - | 2023-04-19 15:01:53 | 
| Clonality/ | - | 2023-04-19 15:01:53 | 
| CluMSID/ | - | 2023-04-19 15:01:53 | 
| ClusterJudge/ | - | 2023-04-19 15:01:53 | 
| ClusterSignificance/ | - | 2023-04-19 15:01:53 | 
| CoCiteStats/ | - | 2023-04-19 15:01:53 | 
| CoGAPS/ | - | 2023-04-19 15:01:53 | 
| CoRegNet/ | - | 2023-04-19 15:01:54 | 
| Cogito/ | - | 2023-04-19 15:01:53 | 
| ComPrAn/ | - | 2023-04-19 15:01:54 | 
| ComplexHeatmap/ | - | 2023-04-19 15:01:54 | 
| CompoundDb/ | - | 2023-04-19 15:01:54 | 
| ConsensusClusterPlus/ | - | 2023-04-19 15:01:54 | 
| CopyNumberPlots/ | - | 2023-04-19 15:01:54 | 
| CopywriteR/ | - | 2023-04-19 15:01:54 | 
| CoreGx/ | - | 2023-04-19 15:01:54 | 
| Cormotif/ | - | 2023-04-19 15:01:54 | 
| CoverageView/ | - | 2023-04-19 15:01:54 | 
| CrispRVariants/ | - | 2023-04-19 15:01:54 | 
| CyTOFpower/ | - | 2023-04-19 15:01:54 | 
| CytoDx/ | - | 2023-04-19 15:01:54 | 
| CytoGLMM/ | - | 2023-04-19 15:01:54 | 
| CytoML/ | - | 2023-04-19 15:01:54 | 
| CytoTree/ | - | 2023-04-19 15:01:54 | 
| DAMEfinder/ | - | 2023-04-19 15:01:54 | 
| DAPAR/ | - | 2023-04-19 15:01:54 | 
| DART/ | - | 2023-04-19 15:01:54 | 
| DECIPHER/ | - | 2023-04-19 15:01:54 | 
| DEComplexDisease/ | - | 2023-04-19 15:01:54 | 
| DEFormats/ | - | 2023-04-19 15:01:54 | 
| DEGraph/ | - | 2023-04-19 15:01:48 | 
| DEGreport/ | - | 2023-04-19 15:01:54 | 
| DEGseq/ | - | 2023-04-19 15:01:54 | 
| DEP/ | - | 2023-04-19 15:01:54 | 
| DEScan2/ | - | 2023-04-19 15:01:54 | 
| DESeq2/ | - | 2023-04-19 15:01:54 | 
| DEWSeq/ | - | 2023-04-19 15:01:54 | 
| DEXSeq/ | - | 2023-04-19 15:01:54 | 
| DEqMS/ | - | 2023-04-19 15:01:54 | 
| DEsingle/ | - | 2023-04-19 15:01:54 | 
| DEsubs/ | - | 2023-04-19 15:01:54 | 
| DExMA/ | - | 2023-04-19 15:01:54 | 
| DFP/ | - | 2023-04-19 15:01:54 | 
| DIAlignR/ | - | 2023-04-19 15:01:54 | 
| DMCFB/ | - | 2023-04-19 15:01:54 | 
| DMCHMM/ | - | 2023-04-19 15:01:54 | 
| DMRScan/ | - | 2023-04-19 15:01:54 | 
| DMRcaller/ | - | 2023-04-19 15:01:54 | 
| DMRcate/ | - | 2023-04-19 15:01:54 | 
| DMRforPairs/ | - | 2023-04-19 15:01:54 | 
| DNABarcodeCompatibility/ | - | 2023-04-19 15:01:54 | 
| DNABarcodes/ | - | 2023-04-19 15:01:54 | 
| DNAcopy/ | - | 2023-04-19 15:01:54 | 
| DNAfusion/ | - | 2023-04-19 15:01:54 | 
| DNAshapeR/ | - | 2023-04-19 15:01:54 | 
| DOSE/ | - | 2023-04-19 15:01:54 | 
| DRIMSeq/ | - | 2023-04-19 15:01:54 | 
| DSS/ | - | 2023-04-19 15:01:54 | 
| DTA/ | - | 2023-04-19 15:01:54 | 
| DaMiRseq/ | - | 2023-04-19 15:01:54 | 
| DeMAND/ | - | 2023-04-19 15:01:54 | 
| DeMixT/ | - | 2023-04-19 15:01:54 | 
| DeconRNASeq/ | - | 2023-04-19 15:01:54 | 
| DeepBlueR/ | - | 2023-04-19 15:01:54 | 
| DeepPINCS/ | - | 2023-04-19 15:01:54 | 
| DegNorm/ | - | 2023-04-19 15:01:54 | 
| DelayedArray/ | - | 2023-04-19 15:01:54 | 
| DelayedDataFrame/ | - | 2023-04-19 15:01:54 | 
| DelayedMatrixStats/ | - | 2023-04-19 15:01:54 | 
| DelayedRandomArray/ | - | 2023-04-19 15:01:54 | 
| DelayedTensor/ | - | 2023-04-19 15:01:54 | 
| DepInfeR/ | - | 2023-04-19 15:01:54 | 
| DepecheR/ | - | 2023-04-19 15:01:54 | 
| DiffBind/ | - | 2023-04-19 15:01:54 | 
| DiffLogo/ | - | 2023-04-19 15:01:54 | 
| DifferentialRegulation/ | - | 2023-04-19 15:01:54 | 
| Dino/ | - | 2023-04-19 15:01:54 | 
| Director/ | - | 2023-04-19 15:01:54 | 
| DirichletMultinomial/ | - | 2023-04-19 15:01:54 | 
| DiscoRhythm/ | - | 2023-04-19 15:01:54 | 
| DominoEffect/ | - | 2023-04-19 15:01:54 | 
| Doscheda/ | - | 2023-04-19 15:01:54 | 
| DriverNet/ | - | 2023-04-19 15:01:54 | 
| DropletUtils/ | - | 2023-04-19 15:01:54 | 
| DrugVsDisease/ | - | 2023-04-19 15:01:54 | 
| Dune/ | - | 2023-04-19 15:01:54 | 
| DynDoc/ | - | 2023-04-19 15:01:54 | 
| EBImage/ | - | 2023-04-19 15:01:54 | 
| EBSEA/ | - | 2023-04-19 15:01:54 | 
| EBSeq/ | - | 2023-04-19 15:01:54 | 
| EBSeqHMM/ | - | 2023-04-19 15:01:54 | 
| EBarrays/ | - | 2023-04-19 15:01:54 | 
| EBcoexpress/ | - | 2023-04-19 15:01:54 | 
| EDASeq/ | - | 2023-04-19 15:01:54 | 
| EGAD/ | - | 2023-04-19 15:01:54 | 
| EGSEA/ | - | 2023-04-19 15:01:54 | 
| ELMER/ | - | 2023-04-19 15:01:54 | 
| EMDomics/ | - | 2023-04-19 15:01:54 | 
| ENmix/ | - | 2023-04-19 15:01:54 | 
| ERSSA/ | - | 2023-04-19 15:01:54 | 
| EWCE/ | - | 2023-04-19 15:01:54 | 
| EasyCellType/ | - | 2023-04-19 15:01:54 | 
| EmpiricalBrownsMethod/ | - | 2023-04-19 15:01:54 | 
| EnMCB/ | - | 2023-04-19 15:01:54 | 
| EnhancedVolcano/ | - | 2023-04-19 15:01:54 | 
| EnrichedHeatmap/ | - | 2023-04-19 15:01:54 | 
| EnrichmentBrowser/ | - | 2023-04-19 15:01:54 | 
| EpiCompare/ | - | 2023-04-19 15:01:54 | 
| EpiDISH/ | - | 2023-04-19 15:01:54 | 
| EpiMix/ | - | 2023-04-19 15:01:54 | 
| EpiTxDb/ | - | 2023-04-19 15:01:54 | 
| EventPointer/ | - | 2023-04-19 15:01:54 | 
| ExCluster/ | - | 2023-04-19 15:01:54 | 
| ExiMiR/ | - | 2023-04-19 15:01:54 | 
| ExperimentHub/ | - | 2023-04-19 15:01:54 | 
| ExperimentHubData/ | - | 2023-04-19 15:01:54 | 
| ExperimentSubset/ | - | 2023-04-19 15:01:54 | 
| ExploreModelMatrix/ | - | 2023-04-19 15:01:54 | 
| ExpressionAtlas/ | - | 2023-04-19 15:01:54 | 
| FCBF/ | - | 2023-04-19 15:01:54 | 
| FEAST/ | - | 2023-04-19 15:01:54 | 
| FELLA/ | - | 2023-04-19 15:01:54 | 
| FGNet/ | - | 2023-04-19 15:01:54 | 
| FISHalyseR/ | - | 2023-04-19 15:01:54 | 
| FLAMES/ | - | 2023-04-19 15:01:54 | 
| FRASER/ | - | 2023-04-19 15:01:54 | 
| FRGEpistasis/ | - | 2023-04-19 15:01:54 | 
| FScanR/ | - | 2023-04-19 15:01:54 | 
| FamAgg/ | - | 2023-04-19 15:01:54 | 
| FastqCleaner/ | - | 2023-04-19 15:01:54 | 
| FilterFFPE/ | - | 2023-04-19 15:01:54 | 
| FindIT2/ | - | 2023-04-19 15:01:54 | 
| FitHiC/ | - | 2023-04-19 15:01:54 | 
| FlowSOM/ | - | 2023-04-19 15:01:54 | 
| FoldGO/ | - | 2023-04-19 15:01:54 | 
| FunChIP/ | - | 2023-04-19 15:01:54 | 
| FuseSOM/ | - | 2023-04-19 15:01:54 | 
| GA4GHclient/ | - | 2023-04-19 15:01:54 | 
| GA4GHshiny/ | - | 2023-04-19 15:01:54 | 
| GAPGOM/ | - | 2023-04-19 15:01:54 | 
| GARS/ | - | 2023-04-19 15:01:54 | 
| GAprediction/ | - | 2023-04-19 15:01:54 | 
| GBScleanR/ | - | 2023-04-19 15:01:54 | 
| GCSscore/ | - | 2023-04-19 15:01:54 | 
| GDCRNATools/ | - | 2023-04-19 15:01:54 | 
| GDSArray/ | - | 2023-04-19 15:01:54 | 
| GEM/ | - | 2023-04-19 15:01:54 | 
| GENESIS/ | - | 2023-04-19 15:01:54 | 
| GENIE3/ | - | 2023-04-19 15:01:54 | 
| GEOexplorer/ | - | 2023-04-19 15:01:55 | 
| GEOfastq/ | - | 2023-04-19 15:01:55 | 
| GEOmetadb/ | - | 2023-04-19 15:01:55 | 
| GEOquery/ | - | 2023-04-19 15:01:55 | 
| GEOsubmission/ | - | 2023-04-19 15:01:55 | 
| GEWIST/ | - | 2023-04-19 15:01:55 | 
| GGPA/ | - | 2023-04-19 15:01:55 | 
| GIGSEA/ | - | 2023-04-19 15:01:55 | 
| GISPA/ | - | 2023-04-19 15:01:55 | 
| GLAD/ | - | 2023-04-19 15:01:55 | 
| GMRP/ | - | 2023-04-19 15:01:55 | 
| GNET2/ | - | 2023-04-19 15:01:55 | 
| GOSemSim/ | - | 2023-04-19 15:01:55 | 
| GOSim/ | - | 2023-04-19 15:01:55 | 
| GOTHiC/ | - | 2023-04-19 15:01:55 | 
| GOexpress/ | - | 2023-04-19 15:01:55 | 
| GOfuncR/ | - | 2023-04-19 15:01:55 | 
| GOpro/ | - | 2023-04-19 15:01:55 | 
| GOstats/ | - | 2023-04-19 15:01:55 | 
| GOsummaries/ | - | 2023-04-19 15:01:55 | 
| GPA/ | - | 2023-04-19 15:01:55 | 
| GRENITS/ | - | 2023-04-19 15:01:55 | 
| GRaNIE/ | - | 2023-04-19 15:01:55 | 
| GRmetrics/ | - | 2023-04-19 15:01:55 | 
| GRridge/ | - | 2023-04-19 15:01:55 | 
| GSALightning/ | - | 2023-04-19 15:01:55 | 
| GSAR/ | - | 2023-04-19 15:01:55 | 
| GSCA/ | - | 2023-04-19 15:01:55 | 
| GSEABase/ | - | 2023-04-19 15:01:55 | 
| GSEABenchmarkeR/ | - | 2023-04-19 15:01:55 | 
| GSEAlm/ | - | 2023-04-19 15:01:55 | 
| GSEAmining/ | - | 2023-04-19 15:01:55 | 
| GSRI/ | - | 2023-04-19 15:01:55 | 
| GSReg/ | - | 2023-04-19 15:01:55 | 
| GSVA/ | - | 2023-04-19 15:01:55 | 
| GSgalgoR/ | - | 2023-04-19 15:01:55 | 
| GUIDEseq/ | - | 2023-04-19 15:01:55 | 
| GWAS.BAYES/ | - | 2023-04-19 15:01:55 | 
| GWASTools/ | - | 2023-04-19 15:01:55 | 
| GWENA/ | - | 2023-04-19 15:01:55 | 
| GateFinder/ | - | 2023-04-19 15:01:54 | 
| GenProSeq/ | - | 2023-04-19 15:01:55 | 
| GenVisR/ | - | 2023-04-19 15:01:55 | 
| GeneAccord/ | - | 2023-04-19 15:01:54 | 
| GeneBreak/ | - | 2023-04-19 15:01:54 | 
| GeneExpressionSignature/ | - | 2023-04-19 15:01:54 | 
| GeneGA/ | - | 2023-04-19 15:01:54 | 
| GeneGeneInteR/ | - | 2023-04-19 15:01:54 | 
| GeneMeta/ | - | 2023-04-19 15:01:54 | 
| GeneNetworkBuilder/ | - | 2023-04-19 15:01:54 | 
| GeneOverlap/ | - | 2023-04-19 15:01:54 | 
| GeneRegionScan/ | - | 2023-04-19 15:01:54 | 
| GeneSelectMMD/ | - | 2023-04-19 15:01:54 | 
| GeneStructureTools/ | - | 2023-04-19 15:01:54 | 
| GeneTonic/ | - | 2023-04-19 15:01:54 | 
| GeneticsPed/ | - | 2023-04-19 15:01:54 | 
| GenomAutomorphism/ | - | 2023-04-19 15:01:54 | 
| GenomeInfoDb/ | - | 2023-04-19 15:01:54 | 
| GenomicAlignments/ | - | 2023-04-19 15:01:54 | 
| GenomicDataCommons/ | - | 2023-04-19 15:01:55 | 
| GenomicDistributions/ | - | 2023-04-19 15:01:55 | 
| GenomicFeatures/ | - | 2023-04-19 15:01:55 | 
| GenomicFiles/ | - | 2023-04-19 15:01:55 | 
| GenomicInteractionNodes/ | - | 2023-04-19 15:01:55 | 
| GenomicInteractions/ | - | 2023-04-19 15:01:55 | 
| GenomicOZone/ | - | 2023-04-19 15:01:55 | 
| GenomicRanges/ | - | 2023-04-19 15:01:55 | 
| GenomicScores/ | - | 2023-04-19 15:01:55 | 
| GenomicSuperSignature/ | - | 2023-04-19 15:01:55 | 
| GenomicTuples/ | - | 2023-04-19 15:01:55 | 
| GeoDiff/ | - | 2023-04-19 15:01:55 | 
| GeomxTools/ | - | 2023-04-19 15:01:55 | 
| GladiaTOX/ | - | 2023-04-19 15:01:55 | 
| Glimma/ | - | 2023-04-19 15:01:55 | 
| GlobalAncova/ | - | 2023-04-19 15:01:55 | 
| GmicR/ | - | 2023-04-19 15:01:55 | 
| GraphAT/ | - | 2023-04-19 15:01:55 | 
| GraphAlignment/ | - | 2023-04-19 15:01:55 | 
| GraphPAC/ | - | 2023-04-19 15:01:55 | 
| GreyListChIP/ | - | 2023-04-19 15:01:55 | 
| Guitar/ | - | 2023-04-19 15:01:55 | 
| Gviz/ | - | 2023-04-19 15:01:55 | 
| HDF5Array/ | - | 2023-04-19 15:01:55 | 
| HDTD/ | - | 2023-04-19 15:01:55 | 
| HELP/ | - | 2023-04-19 15:01:55 | 
| HEM/ | - | 2023-04-19 15:01:55 | 
| HGC/ | - | 2023-04-19 15:01:55 | 
| HIBAG/ | - | 2023-04-19 15:01:55 | 
| HIPPO/ | - | 2023-04-19 15:01:55 | 
| HIREewas/ | - | 2023-04-19 15:01:55 | 
| HMMcopy/ | - | 2023-04-19 15:01:55 | 
| HPAStainR/ | - | 2023-04-19 15:01:55 | 
| HPAanalyze/ | - | 2023-04-19 15:01:55 | 
| HPiP/ | - | 2023-04-19 15:01:55 | 
| HTSFilter/ | - | 2023-04-19 15:01:55 | 
| HTSeqGenie/ | - | 2023-04-19 15:01:49 | 
| HTqPCR/ | - | 2023-04-19 15:01:55 | 
| Harman/ | - | 2023-04-19 15:01:55 | 
| Harshlight/ | - | 2023-04-19 15:01:55 | 
| Heatplus/ | - | 2023-04-19 15:01:55 | 
| HelloRanges/ | - | 2023-04-19 15:01:55 | 
| Herper/ | - | 2023-04-19 15:01:55 | 
| HiCBricks/ | - | 2023-04-19 15:01:55 | 
| HiCDCPlus/ | - | 2023-04-19 15:01:55 | 
| HiCDOC/ | - | 2023-04-19 15:01:55 | 
| HiCcompare/ | - | 2023-04-19 15:01:55 | 
| HiContacts/ | - | 2023-04-19 15:01:55 | 
| HiLDA/ | - | 2023-04-19 15:01:55 | 
| HiTC/ | - | 2023-04-19 15:01:55 | 
| HilbertCurve/ | - | 2023-04-19 15:01:55 | 
| HilbertVis/ | - | 2023-04-19 15:01:55 | 
| HilbertVisGUI/ | - | 2023-04-19 15:01:49 | 
| HubPub/ | - | 2023-04-19 15:01:55 | 
| HumanTranscriptomeCompendium/ | - | 2023-04-19 15:01:55 | 
| HybridMTest/ | - | 2023-04-19 15:01:55 | 
| IHW/ | - | 2023-04-19 15:01:55 | 
| ILoReg/ | - | 2023-04-19 15:01:55 | 
| IMAS/ | - | 2023-04-19 15:01:55 | 
| IMMAN/ | - | 2023-04-19 15:01:55 | 
| IMPCdata/ | - | 2023-04-19 15:01:55 | 
| INDEED/ | - | 2023-04-19 15:01:55 | 
| INPower/ | - | 2023-04-19 15:01:55 | 
| INSPEcT/ | - | 2023-04-19 15:01:55 | 
| IONiseR/ | - | 2023-04-19 15:01:55 | 
| IPO/ | - | 2023-04-19 15:01:55 | 
| IRISFGM/ | - | 2023-04-19 15:01:55 | 
| IRanges/ | - | 2023-04-19 15:01:55 | 
| ISAnalytics/ | - | 2023-04-19 15:01:55 | 
| ISLET/ | - | 2023-04-19 15:01:55 | 
| ISoLDE/ | - | 2023-04-19 15:01:55 | 
| ITALICS/ | - | 2023-04-19 15:01:55 | 
| IVAS/ | - | 2023-04-19 15:01:55 | 
| IWTomics/ | - | 2023-04-19 15:01:55 | 
| Icens/ | - | 2023-04-19 15:01:55 | 
| IdeoViz/ | - | 2023-04-19 15:01:55 | 
| IgGeneUsage/ | - | 2023-04-19 15:01:55 | 
| ImmuneSpaceR/ | - | 2023-04-19 15:01:55 | 
| InPAS/ | - | 2023-04-19 15:01:55 | 
| InTAD/ | - | 2023-04-19 15:01:55 | 
| Informeasure/ | - | 2023-04-19 15:01:55 | 
| IntEREst/ | - | 2023-04-19 15:01:55 | 
| InterCellar/ | - | 2023-04-19 15:01:55 | 
| InterMineR/ | - | 2023-04-19 15:01:55 | 
| InteractionSet/ | - | 2023-04-19 15:01:55 | 
| InteractiveComplexHeatmap/ | - | 2023-04-19 15:01:55 | 
| IntramiRExploreR/ | - | 2023-04-19 15:01:55 | 
| IsoCorrectoR/ | - | 2023-04-19 15:01:55 | 
| IsoCorrectoRGUI/ | - | 2023-04-19 15:01:55 | 
| IsoGeneGUI/ | - | 2023-04-19 15:01:55 | 
| IsoformSwitchAnalyzeR/ | - | 2023-04-19 15:01:55 | 
| KBoost/ | - | 2023-04-19 15:01:55 | 
| KCsmart/ | - | 2023-04-19 15:01:55 | 
| KEGGREST/ | - | 2023-04-19 15:01:55 | 
| KEGGgraph/ | - | 2023-04-19 15:01:55 | 
| KEGGlincs/ | - | 2023-04-19 15:01:55 | 
| KinSwingR/ | - | 2023-04-19 15:01:55 | 
| KnowSeq/ | - | 2023-04-19 15:01:55 | 
| LACE/ | - | 2023-04-19 15:01:55 | 
| LBE/ | - | 2023-04-19 15:01:55 | 
| LEA/ | - | 2023-04-19 15:01:55 | 
| LOBSTAHS/ | - | 2023-04-19 15:01:55 | 
| LOLA/ | - | 2023-04-19 15:01:55 | 
| LPE/ | - | 2023-04-19 15:01:55 | 
| LPEadj/ | - | 2023-04-19 15:01:55 | 
| LRBaseDbi/ | - | 2023-04-19 15:01:55 | 
| LRcell/ | - | 2023-04-19 15:01:55 | 
| LedPred/ | - | 2023-04-19 15:01:55 | 
| LinTInd/ | - | 2023-04-19 15:01:55 | 
| LineagePulse/ | - | 2023-04-19 15:01:55 | 
| LinkHD/ | - | 2023-04-19 15:01:55 | 
| Linnorm/ | - | 2023-04-19 15:01:55 | 
| LiquidAssociation/ | - | 2023-04-19 15:01:55 | 
| LoomExperiment/ | - | 2023-04-19 15:01:55 | 
| LowMACA/ | - | 2023-04-19 15:01:55 | 
| LymphoSeq/ | - | 2023-04-19 15:01:55 | 
| M3C/ | - | 2023-04-19 15:01:55 | 
| M3Drop/ | - | 2023-04-19 15:01:55 | 
| MACPET/ | - | 2023-04-19 15:01:55 | 
| MACSQuantifyR/ | - | 2023-04-19 15:01:55 | 
| MACSr/ | - | 2023-04-19 15:01:55 | 
| MADSEQ/ | - | 2023-04-19 15:01:55 | 
| MAGAR/ | - | 2023-04-19 15:01:55 | 
| MAGeCKFlute/ | - | 2023-04-19 15:01:55 | 
| MAI/ | - | 2023-04-19 15:01:55 | 
| MAIT/ | - | 2023-04-19 15:01:55 | 
| MANOR/ | - | 2023-04-19 15:01:55 | 
| MAST/ | - | 2023-04-19 15:01:55 | 
| MBASED/ | - | 2023-04-19 15:01:55 | 
| MBAmethyl/ | - | 2023-04-19 15:01:55 | 
| MBCB/ | - | 2023-04-19 15:01:55 | 
| MBECS/ | - | 2023-04-19 15:01:55 | 
| MBQN/ | - | 2023-04-19 15:01:55 | 
| MBttest/ | - | 2023-04-19 15:01:55 | 
| MCbiclust/ | - | 2023-04-19 15:01:55 | 
| MDTS/ | - | 2023-04-19 15:01:55 | 
| MEAL/ | - | 2023-04-19 15:01:55 | 
| MEAT/ | - | 2023-04-19 15:01:55 | 
| MEB/ | - | 2023-04-19 15:01:55 | 
| MEDIPS/ | - | 2023-04-19 15:01:55 | 
| MEDME/ | - | 2023-04-19 15:01:55 | 
| MEIGOR/ | - | 2023-04-19 15:01:55 | 
| MGFM/ | - | 2023-04-19 15:01:56 | 
| MGFR/ | - | 2023-04-19 15:01:56 | 
| MIGSA/ | - | 2023-04-19 15:01:56 | 
| MIMOSA/ | - | 2023-04-19 15:01:56 | 
| MIRA/ | - | 2023-04-19 15:01:56 | 
| MLInterfaces/ | - | 2023-04-19 15:01:56 | 
| MLP/ | - | 2023-04-19 15:01:56 | 
| MLSeq/ | - | 2023-04-19 15:01:56 | 
| MMAPPR2/ | - | 2023-04-19 15:01:56 | 
| MMDiff2/ | - | 2023-04-19 15:01:56 | 
| MMUPHin/ | - | 2023-04-19 15:01:56 | 
| MODA/ | - | 2023-04-19 15:01:56 | 
| MOFA2/ | - | 2023-04-19 15:01:56 | 
| MOGAMUN/ | - | 2023-04-19 15:01:56 | 
| MOMA/ | - | 2023-04-19 15:01:56 | 
| MOSim/ | - | 2023-04-19 15:01:56 | 
| MPFE/ | - | 2023-04-19 15:01:56 | 
| MPRAnalyze/ | - | 2023-04-19 15:01:56 | 
| MQmetrics/ | - | 2023-04-19 15:01:56 | 
| MSA2dist/ | - | 2023-04-19 15:01:56 | 
| MSPrep/ | - | 2023-04-19 15:01:56 | 
| MSnID/ | - | 2023-04-19 15:01:56 | 
| MSnbase/ | - | 2023-04-19 15:01:56 | 
| MSstats/ | - | 2023-04-19 15:01:56 | 
| MSstatsConvert/ | - | 2023-04-19 15:01:56 | 
| MSstatsLOBD/ | - | 2023-04-19 15:01:56 | 
| MSstatsLiP/ | - | 2023-04-19 15:01:56 | 
| MSstatsPTM/ | - | 2023-04-19 15:01:56 | 
| MSstatsQC/ | - | 2023-04-19 15:01:56 | 
| MSstatsQCgui/ | - | 2023-04-19 15:01:56 | 
| MSstatsSampleSize/ | - | 2023-04-19 15:01:56 | 
| MSstatsShiny/ | - | 2023-04-19 15:01:56 | 
| MSstatsTMT/ | - | 2023-04-19 15:01:56 | 
| MVCClass/ | - | 2023-04-19 15:01:56 | 
| MWASTools/ | - | 2023-04-19 15:01:56 | 
| Maaslin2/ | - | 2023-04-19 15:01:55 | 
| Macarron/ | - | 2023-04-19 15:01:55 | 
| MantelCorr/ | - | 2023-04-19 15:01:55 | 
| MassArray/ | - | 2023-04-19 15:01:55 | 
| MassSpecWavelet/ | - | 2023-04-19 15:01:55 | 
| MatrixGenerics/ | - | 2023-04-19 15:01:55 | 
| MatrixQCvis/ | - | 2023-04-19 15:01:55 | 
| MatrixRider/ | - | 2023-04-19 15:01:55 | 
| MeSHDbi/ | - | 2023-04-19 15:01:56 | 
| MeasurementError.cor/ | - | 2023-04-19 15:01:55 | 
| Melissa/ | - | 2023-04-19 15:01:55 | 
| Mergeomics/ | - | 2023-04-19 15:01:56 | 
| MesKit/ | - | 2023-04-19 15:01:56 | 
| MetCirc/ | - | 2023-04-19 15:01:56 | 
| MetID/ | - | 2023-04-19 15:01:56 | 
| MetNet/ | - | 2023-04-19 15:01:56 | 
| MetaCyto/ | - | 2023-04-19 15:01:56 | 
| MetaNeighbor/ | - | 2023-04-19 15:01:56 | 
| MetaPhOR/ | - | 2023-04-19 15:01:56 | 
| MetaVolcanoR/ | - | 2023-04-19 15:01:56 | 
| Metab/ | - | 2023-04-19 15:01:56 | 
| MetaboAnnotation/ | - | 2023-04-19 15:01:56 | 
| MetaboCoreUtils/ | - | 2023-04-19 15:01:56 | 
| MetaboSignal/ | - | 2023-04-19 15:01:56 | 
| MethCP/ | - | 2023-04-19 15:01:56 | 
| MethPed/ | - | 2023-04-19 15:01:56 | 
| MethReg/ | - | 2023-04-19 15:01:56 | 
| MethTargetedNGS/ | - | 2023-04-19 15:01:56 | 
| MethylAid/ | - | 2023-04-19 15:01:56 | 
| MethylMix/ | - | 2023-04-19 15:01:56 | 
| MethylSeekR/ | - | 2023-04-19 15:01:56 | 
| Mfuzz/ | - | 2023-04-19 15:01:56 | 
| MiChip/ | - | 2023-04-19 15:01:56 | 
| MiPP/ | - | 2023-04-19 15:01:56 | 
| MiRaGE/ | - | 2023-04-19 15:01:56 | 
| MicrobiomeProfiler/ | - | 2023-04-19 15:01:56 | 
| MicrobiotaProcess/ | - | 2023-04-19 15:01:56 | 
| MineICA/ | - | 2023-04-19 15:01:56 | 
| MinimumDistance/ | - | 2023-04-19 15:01:56 | 
| MobilityTransformR/ | - | 2023-04-19 15:01:56 | 
| ModCon/ | - | 2023-04-19 15:01:56 | 
| Modstrings/ | - | 2023-04-19 15:01:56 | 
| MoonlightR/ | - | 2023-04-19 15:01:56 | 
| Motif2Site/ | - | 2023-04-19 15:01:56 | 
| MotifDb/ | - | 2023-04-19 15:01:56 | 
| MouseFM/ | - | 2023-04-19 15:01:56 | 
| MsBackendMassbank/ | - | 2023-04-19 15:01:56 | 
| MsBackendMgf/ | - | 2023-04-19 15:01:56 | 
| MsBackendMsp/ | - | 2023-04-19 15:01:56 | 
| MsBackendRawFileReader/ | - | 2023-04-19 15:01:56 | 
| MsCoreUtils/ | - | 2023-04-19 15:01:56 | 
| MsExperiment/ | - | 2023-04-19 15:01:56 | 
| MsFeatures/ | - | 2023-04-19 15:01:56 | 
| MuData/ | - | 2023-04-19 15:01:56 | 
| Mulcom/ | - | 2023-04-19 15:01:56 | 
| MultiAssayExperiment/ | - | 2023-04-19 15:01:56 | 
| MultiBaC/ | - | 2023-04-19 15:01:56 | 
| MultiDataSet/ | - | 2023-04-19 15:01:56 | 
| MultiMed/ | - | 2023-04-19 15:01:56 | 
| MungeSumstats/ | - | 2023-04-19 15:01:56 | 
| MutationalPatterns/ | - | 2023-04-19 15:01:56 | 
| NADfinder/ | - | 2023-04-19 15:01:56 | 
| NBAMSeq/ | - | 2023-04-19 15:01:56 | 
| NBSplice/ | - | 2023-04-19 15:01:56 | 
| NCIgraph/ | - | 2023-04-19 15:01:50 | 
| NOISeq/ | - | 2023-04-19 15:01:56 | 
| NPARC/ | - | 2023-04-19 15:01:56 | 
| NTW/ | - | 2023-04-19 15:01:56 | 
| NanoMethViz/ | - | 2023-04-19 15:01:56 | 
| NanoStringDiff/ | - | 2023-04-19 15:01:56 | 
| NanoStringNCTools/ | - | 2023-04-19 15:01:56 | 
| NanoStringQCPro/ | - | 2023-04-19 15:01:56 | 
| NanoTube/ | - | 2023-04-19 15:01:56 | 
| Nebulosa/ | - | 2023-04-19 15:01:56 | 
| NeighborNet/ | - | 2023-04-19 15:01:56 | 
| NetActivity/ | - | 2023-04-19 15:01:56 | 
| NetPathMiner/ | - | 2023-04-19 15:01:56 | 
| NetSAM/ | - | 2023-04-19 15:01:56 | 
| NeuCA/ | - | 2023-04-19 15:01:56 | 
| NewWave/ | - | 2023-04-19 15:01:56 | 
| NoRCE/ | - | 2023-04-19 15:01:56 | 
| NormalyzerDE/ | - | 2023-04-19 15:01:56 | 
| NormqPCR/ | - | 2023-04-19 15:01:56 | 
| NuPoP/ | - | 2023-04-19 15:01:56 | 
| NxtIRFcore/ | - | 2023-04-19 15:01:56 | 
| OCplus/ | - | 2023-04-19 15:01:56 | 
| ODER/ | - | 2023-04-19 15:01:56 | 
| OGRE/ | - | 2023-04-19 15:01:56 | 
| OLIN/ | - | 2023-04-19 15:01:56 | 
| OLINgui/ | - | 2023-04-19 15:01:56 | 
| OMICsPCA/ | - | 2023-04-19 15:01:56 | 
| OPWeight/ | - | 2023-04-19 15:01:56 | 
| ORFhunteR/ | - | 2023-04-19 15:01:56 | 
| ORFik/ | - | 2023-04-19 15:01:56 | 
| OSAT/ | - | 2023-04-19 15:01:56 | 
| OTUbase/ | - | 2023-04-19 15:01:56 | 
| OUTRIDER/ | - | 2023-04-19 15:01:56 | 
| OVESEG/ | - | 2023-04-19 15:01:56 | 
| OmaDB/ | - | 2023-04-19 15:01:56 | 
| OmicCircos/ | - | 2023-04-19 15:01:56 | 
| OmicsLonDA/ | - | 2023-04-19 15:01:56 | 
| Omixer/ | - | 2023-04-19 15:01:56 | 
| OmnipathR/ | - | 2023-04-19 15:01:56 | 
| OncoScore/ | - | 2023-04-19 15:01:56 | 
| OncoSimulR/ | - | 2023-04-19 15:01:56 | 
| OpenStats/ | - | 2023-04-19 15:01:56 | 
| OrderedList/ | - | 2023-04-19 15:01:56 | 
| Organism.dplyr/ | - | 2023-04-19 15:01:56 | 
| OrganismDbi/ | - | 2023-04-19 15:01:56 | 
| Oscope/ | - | 2023-04-19 15:01:56 | 
| PAA/ | - | 2023-04-19 15:01:56 | 
| PADOG/ | - | 2023-04-19 15:01:56 | 
| PAIRADISE/ | - | 2023-04-19 15:01:56 | 
| PANR/ | - | 2023-04-19 15:01:56 | 
| PAST/ | - | 2023-04-19 15:01:56 | 
| PCAN/ | - | 2023-04-19 15:01:57 | 
| PCAtools/ | - | 2023-04-19 15:01:57 | 
| PDATK/ | - | 2023-04-19 15:01:57 | 
| PECA/ | - | 2023-04-19 15:01:57 | 
| PERFect/ | - | 2023-04-19 15:01:57 | 
| PFP/ | - | 2023-04-19 15:01:57 | 
| PICS/ | - | 2023-04-19 15:01:57 | 
| PING/ | - | 2023-04-19 15:01:57 | 
| PLPE/ | - | 2023-04-19 15:01:57 | 
| POMA/ | - | 2023-04-19 15:01:57 | 
| POWSC/ | - | 2023-04-19 15:01:57 | 
| PPInfer/ | - | 2023-04-19 15:01:57 | 
| PREDA/ | - | 2023-04-19 15:01:57 | 
| PROMISE/ | - | 2023-04-19 15:01:57 | 
| PROPER/ | - | 2023-04-19 15:01:57 | 
| PROPS/ | - | 2023-04-19 15:01:57 | 
| PROcess/ | - | 2023-04-19 15:01:57 | 
| PSEA/ | - | 2023-04-19 15:01:57 | 
| PSMatch/ | - | 2023-04-19 15:01:57 | 
| PWMEnrich/ | - | 2023-04-19 15:01:57 | 
| PanViz/ | - | 2023-04-19 15:01:56 | 
| PanomiR/ | - | 2023-04-19 15:01:56 | 
| Path2PPI/ | - | 2023-04-19 15:01:56 | 
| PathNet/ | - | 2023-04-19 15:01:56 | 
| PathoStat/ | - | 2023-04-19 15:01:56 | 
| PeacoQC/ | - | 2023-04-19 15:01:57 | 
| PepsNMR/ | - | 2023-04-19 15:01:57 | 
| PhIPData/ | - | 2023-04-19 15:01:57 | 
| PharmacoGx/ | - | 2023-04-19 15:01:57 | 
| PhenStat/ | - | 2023-04-19 15:01:57 | 
| PhenoGeneRanker/ | - | 2023-04-19 15:01:57 | 
| PhosR/ | - | 2023-04-19 15:01:57 | 
| PhyloProfile/ | - | 2023-04-19 15:01:57 | 
| Pi/ | - | 2023-04-19 15:01:57 | 
| Pigengene/ | - | 2023-04-19 15:01:57 | 
| PloGO2/ | - | 2023-04-19 15:01:57 | 
| PoDCall/ | - | 2023-04-19 15:01:57 | 
| PoTRA/ | - | 2023-04-19 15:01:57 | 
| PrInCE/ | - | 2023-04-19 15:01:57 | 
| PrecisionTrialDrawer/ | - | 2023-04-19 15:01:57 | 
| Prostar/ | - | 2023-04-19 15:01:57 | 
| ProtGenerics/ | - | 2023-04-19 15:01:57 | 
| ProteoDisco/ | - | 2023-04-19 15:01:57 | 
| ProteoMM/ | - | 2023-04-19 15:01:57 | 
| PureCN/ | - | 2023-04-19 15:01:57 | 
| Pviz/ | - | 2023-04-19 15:01:57 | 
| QDNAseq/ | - | 2023-04-19 15:01:57 | 
| QFeatures/ | - | 2023-04-19 15:01:57 | 
| QSutils/ | - | 2023-04-19 15:01:57 | 
| QUBIC/ | - | 2023-04-19 15:01:57 | 
| Qtlizer/ | - | 2023-04-19 15:01:57 | 
| QuartPAC/ | - | 2023-04-19 15:01:57 | 
| QuasR/ | - | 2023-04-19 15:01:57 | 
| QuaternaryProd/ | - | 2023-04-19 15:01:57 | 
| R3CPET/ | - | 2023-04-19 15:01:57 | 
| R453Plus1Toolbox/ | - | 2023-04-19 15:01:57 | 
| R4RNA/ | - | 2023-04-19 15:01:57 | 
| RAREsim/ | - | 2023-04-19 15:01:57 | 
| RBGL/ | - | 2023-04-19 15:01:57 | 
| RBM/ | - | 2023-04-19 15:01:57 | 
| RBioinf/ | - | 2023-04-19 15:01:57 | 
| RCAS/ | - | 2023-04-19 15:01:57 | 
| RCASPAR/ | - | 2023-04-19 15:01:57 | 
| RCM/ | - | 2023-04-19 15:01:57 | 
| RCSL/ | - | 2023-04-19 15:01:57 | 
| RCX/ | - | 2023-04-19 15:01:57 | 
| RCy3/ | - | 2023-04-19 15:01:57 | 
| RCyjs/ | - | 2023-04-19 15:01:57 | 
| RDRToolbox/ | - | 2023-04-19 15:01:57 | 
| REBET/ | - | 2023-04-19 15:01:57 | 
| REDseq/ | - | 2023-04-19 15:01:57 | 
| REMP/ | - | 2023-04-19 15:01:57 | 
| RESOLVE/ | - | 2023-04-19 15:01:57 | 
| RGMQL/ | - | 2023-04-19 15:01:51 | 
| RGSEA/ | - | 2023-04-19 15:01:57 | 
| RGraph2js/ | - | 2023-04-19 15:01:57 | 
| RIPAT/ | - | 2023-04-19 15:01:57 | 
| RITAN/ | - | 2023-04-19 15:01:57 | 
| RIVER/ | - | 2023-04-19 15:01:57 | 
| RImmPort/ | - | 2023-04-19 15:01:57 | 
| RJMCMCNucleosomes/ | - | 2023-04-19 15:01:57 | 
| RLMM/ | - | 2023-04-19 15:01:57 | 
| RLSeq/ | - | 2023-04-19 15:01:57 | 
| RLassoCox/ | - | 2023-04-19 15:01:57 | 
| RMassBank/ | - | 2023-04-19 15:01:57 | 
| RNAAgeCalc/ | - | 2023-04-19 15:01:57 | 
| RNASeqPower/ | - | 2023-04-19 15:01:57 | 
| RNASeqR/ | - | 2023-04-19 15:01:57 | 
| RNAdecay/ | - | 2023-04-19 15:01:57 | 
| RNAinteract/ | - | 2023-04-19 15:01:57 | 
| RNAmodR/ | - | 2023-04-19 15:01:57 | 
| RNAmodR.AlkAnilineSeq/ | - | 2023-04-19 15:01:57 | 
| RNAmodR.ML/ | - | 2023-04-19 15:01:57 | 
| RNAmodR.RiboMethSeq/ | - | 2023-04-19 15:01:57 | 
| RNAsense/ | - | 2023-04-19 15:01:57 | 
| ROC/ | - | 2023-04-19 15:01:57 | 
| ROCpAI/ | - | 2023-04-19 15:01:57 | 
| ROSeq/ | - | 2023-04-19 15:01:57 | 
| ROTS/ | - | 2023-04-19 15:01:57 | 
| ROntoTools/ | - | 2023-04-19 15:01:57 | 
| RPA/ | - | 2023-04-19 15:01:57 | 
| RProtoBufLib/ | - | 2023-04-19 15:01:57 | 
| RRHO/ | - | 2023-04-19 15:01:57 | 
| RSVSim/ | - | 2023-04-19 15:01:57 | 
| RSeqAn/ | - | 2023-04-19 15:01:57 | 
| RTCA/ | - | 2023-04-19 15:01:57 | 
| RTCGA/ | - | 2023-04-19 15:01:57 | 
| RTCGAToolbox/ | - | 2023-04-19 15:01:57 | 
| RTN/ | - | 2023-04-19 15:01:57 | 
| RTNduals/ | - | 2023-04-19 15:01:57 | 
| RTNsurvival/ | - | 2023-04-19 15:01:57 | 
| RTopper/ | - | 2023-04-19 15:01:57 | 
| RUVSeq/ | - | 2023-04-19 15:01:58 | 
| RUVcorr/ | - | 2023-04-19 15:01:58 | 
| RUVnormalize/ | - | 2023-04-19 15:01:58 | 
| RVS/ | - | 2023-04-19 15:01:58 | 
| RadioGx/ | - | 2023-04-19 15:01:57 | 
| RaggedExperiment/ | - | 2023-04-19 15:01:57 | 
| RandomWalkRestartMH/ | - | 2023-04-19 15:01:57 | 
| RankProd/ | - | 2023-04-19 15:01:57 | 
| RareVariantVis/ | - | 2023-04-19 15:01:57 | 
| RbcBook1/ | - | 2023-04-19 15:01:57 | 
| Rbec/ | - | 2023-04-19 15:01:57 | 
| Rbowtie/ | - | 2023-04-19 15:01:57 | 
| Rbowtie2/ | - | 2023-04-19 15:01:57 | 
| Rbwa/ | - | 2023-04-19 15:01:57 | 
| Rcade/ | - | 2023-04-19 15:01:57 | 
| RcisTarget/ | - | 2023-04-19 15:01:57 | 
| Rcpi/ | - | 2023-04-19 15:01:57 | 
| Rcwl/ | - | 2023-04-19 15:01:57 | 
| RcwlPipelines/ | - | 2023-04-19 15:01:57 | 
| Rdisop/ | - | 2023-04-19 15:01:57 | 
| ReQON/ | - | 2023-04-19 15:01:57 | 
| ReactomeContentService4R/ | - | 2023-04-19 15:01:57 | 
| ReactomeGSA/ | - | 2023-04-19 15:01:57 | 
| ReactomeGraph4R/ | - | 2023-04-19 15:01:57 | 
| ReactomePA/ | - | 2023-04-19 15:01:57 | 
| ReadqPCR/ | - | 2023-04-19 15:01:57 | 
| RedeR/ | - | 2023-04-19 15:01:57 | 
| RedisParam/ | - | 2023-04-19 15:01:57 | 
| RefPlus/ | - | 2023-04-19 15:01:57 | 
| RegEnrich/ | - | 2023-04-19 15:01:57 | 
| RepViz/ | - | 2023-04-19 15:01:57 | 
| Repitools/ | - | 2023-04-19 15:01:57 | 
| ReportingTools/ | - | 2023-04-19 15:01:57 | 
| ResidualMatrix/ | - | 2023-04-19 15:01:57 | 
| Rfastp/ | - | 2023-04-19 15:01:57 | 
| RgnTX/ | - | 2023-04-19 15:01:57 | 
| Rgraphviz/ | - | 2023-04-19 15:01:57 | 
| Rhdf5lib/ | - | 2023-04-19 15:01:57 | 
| Rhisat2/ | - | 2023-04-19 15:01:57 | 
| Rhtslib/ | - | 2023-04-19 15:01:57 | 
| RiboCrypt/ | - | 2023-04-19 15:01:57 | 
| RiboDiPA/ | - | 2023-04-19 15:01:57 | 
| RiboProfiling/ | - | 2023-04-19 15:01:57 | 
| Ringo/ | - | 2023-04-19 15:01:57 | 
| Risa/ | - | 2023-04-19 15:01:57 | 
| Rmagpie/ | - | 2023-04-19 15:01:57 | 
| Rmmquant/ | - | 2023-04-19 15:01:57 | 
| RnBeads/ | - | 2023-04-19 15:01:57 | 
| RnaSeqSampleSize/ | - | 2023-04-19 15:01:57 | 
| Rnits/ | - | 2023-04-19 15:01:57 | 
| RolDE/ | - | 2023-04-19 15:01:57 | 
| Rqc/ | - | 2023-04-19 15:01:57 | 
| Rsamtools/ | - | 2023-04-19 15:01:57 | 
| Rsubread/ | - | 2023-04-19 15:01:57 | 
| Rtpca/ | - | 2023-04-19 15:01:57 | 
| Rtreemix/ | - | 2023-04-19 15:01:58 | 
| S4Vectors/ | - | 2023-04-19 15:01:58 | 
| SAIGEgds/ | - | 2023-04-19 15:01:58 | 
| SANTA/ | - | 2023-04-19 15:01:58 | 
| SBGNview/ | - | 2023-04-19 15:01:58 | 
| SBMLR/ | - | 2023-04-19 15:01:58 | 
| SC3/ | - | 2023-04-19 15:01:58 | 
| SCAN.UPC/ | - | 2023-04-19 15:01:58 | 
| SCANVIS/ | - | 2023-04-19 15:01:58 | 
| SCATE/ | - | 2023-04-19 15:01:58 | 
| SCArray/ | - | 2023-04-19 15:01:58 | 
| SCBN/ | - | 2023-04-19 15:01:58 | 
| SCFA/ | - | 2023-04-19 15:01:58 | 
| SCOPE/ | - | 2023-04-19 15:01:58 | 
| SCnorm/ | - | 2023-04-19 15:01:58 | 
| SDAMS/ | - | 2023-04-19 15:01:58 | 
| SELEX/ | - | 2023-04-19 15:01:58 | 
| SEPIRA/ | - | 2023-04-19 15:01:58 | 
| SEtools/ | - | 2023-04-19 15:01:58 | 
| SGSeq/ | - | 2023-04-19 15:01:58 | 
| SIAMCAT/ | - | 2023-04-19 15:01:58 | 
| SICtools/ | - | 2023-04-19 15:01:58 | 
| SIM/ | - | 2023-04-19 15:01:58 | 
| SIMAT/ | - | 2023-04-19 15:01:58 | 
| SIMD/ | - | 2023-04-19 15:01:58 | 
| SIMLR/ | - | 2023-04-19 15:01:58 | 
| SISPA/ | - | 2023-04-19 15:01:58 | 
| SLqPCR/ | - | 2023-04-19 15:01:58 | 
| SMAD/ | - | 2023-04-19 15:01:58 | 
| SMAP/ | - | 2023-04-19 15:01:58 | 
| SMITE/ | - | 2023-04-19 15:01:58 | 
| SNAGEE/ | - | 2023-04-19 15:01:58 | 
| SNPRelate/ | - | 2023-04-19 15:01:58 | 
| SNPediaR/ | - | 2023-04-19 15:01:58 | 
| SNPhood/ | - | 2023-04-19 15:01:58 | 
| SOMNiBUS/ | - | 2023-04-19 15:01:58 | 
| SPEM/ | - | 2023-04-19 15:01:58 | 
| SPIA/ | - | 2023-04-19 15:01:58 | 
| SPIAT/ | - | 2023-04-19 15:01:58 | 
| SPLINTER/ | - | 2023-04-19 15:01:58 | 
| SPONGE/ | - | 2023-04-19 15:01:58 | 
| SPOTlight/ | - | 2023-04-19 15:01:58 | 
| SPsimSeq/ | - | 2023-04-19 15:01:58 | 
| SQLDataFrame/ | - | 2023-04-19 15:01:58 | 
| SQUADD/ | - | 2023-04-19 15:01:58 | 
| SRAdb/ | - | 2023-04-19 15:01:58 | 
| STAN/ | - | 2023-04-19 15:01:58 | 
| STATegRa/ | - | 2023-04-19 15:01:58 | 
| STRINGdb/ | - | 2023-04-19 15:01:58 | 
| STROMA4/ | - | 2023-04-19 15:01:58 | 
| STdeconvolve/ | - | 2023-04-19 15:01:58 | 
| SUITOR/ | - | 2023-04-19 15:01:58 | 
| SWATH2stats/ | - | 2023-04-19 15:01:58 | 
| SamSPECTRAL/ | - | 2023-04-19 15:01:58 | 
| Scale4C/ | - | 2023-04-19 15:01:58 | 
| ScaledMatrix/ | - | 2023-04-19 15:01:58 | 
| Sconify/ | - | 2023-04-19 15:01:58 | 
| ScreenR/ | - | 2023-04-19 15:01:58 | 
| SemDist/ | - | 2023-04-19 15:01:58 | 
| SeqArray/ | - | 2023-04-19 15:01:58 | 
| SeqGSEA/ | - | 2023-04-19 15:01:58 | 
| SeqGate/ | - | 2023-04-19 15:01:58 | 
| SeqSQC/ | - | 2023-04-19 15:01:58 | 
| SeqVarTools/ | - | 2023-04-19 15:01:58 | 
| SharedObject/ | - | 2023-04-19 15:01:58 | 
| ShortRead/ | - | 2023-04-19 15:01:58 | 
| SigCheck/ | - | 2023-04-19 15:01:58 | 
| SigFuge/ | - | 2023-04-19 15:01:58 | 
| SigsPack/ | - | 2023-04-19 15:01:58 | 
| SimBindProfiles/ | - | 2023-04-19 15:01:58 | 
| SimBu/ | - | 2023-04-19 15:01:58 | 
| SimFFPE/ | - | 2023-04-19 15:01:58 | 
| SingleCellExperiment/ | - | 2023-04-19 15:01:58 | 
| SingleCellSignalR/ | - | 2023-04-19 15:01:58 | 
| SingleMoleculeFootprinting/ | - | 2023-04-19 15:01:58 | 
| SingleR/ | - | 2023-04-19 15:01:58 | 
| SomaticSignatures/ | - | 2023-04-19 15:01:58 | 
| SpacePAC/ | - | 2023-04-19 15:01:58 | 
| Spaniel/ | - | 2023-04-19 15:01:58 | 
| SparseSignatures/ | - | 2023-04-19 15:01:58 | 
| SpatialCPie/ | - | 2023-04-19 15:01:58 | 
| SpatialDecon/ | - | 2023-04-19 15:01:58 | 
| SpatialExperiment/ | - | 2023-04-19 15:01:58 | 
| SpatialFeatureExperiment/ | - | 2023-04-19 15:01:58 | 
| SpeCond/ | - | 2023-04-19 15:01:58 | 
| Spectra/ | - | 2023-04-19 15:01:58 | 
| SpectralTAD/ | - | 2023-04-19 15:01:58 | 
| SpidermiR/ | - | 2023-04-19 15:01:58 | 
| SpliceWiz/ | - | 2023-04-19 15:01:58 | 
| SplicingFactory/ | - | 2023-04-19 15:01:58 | 
| SplicingGraphs/ | - | 2023-04-19 15:01:58 | 
| SpotClean/ | - | 2023-04-19 15:01:58 | 
| StarBioTrek/ | - | 2023-04-19 15:01:58 | 
| Statial/ | - | 2023-04-19 15:01:58 | 
| Streamer/ | - | 2023-04-19 15:01:58 | 
| Structstrings/ | - | 2023-04-19 15:01:58 | 
| StructuralVariantAnnotation/ | - | 2023-04-19 15:01:58 | 
| SubCellBarCode/ | - | 2023-04-19 15:01:58 | 
| SummarizedBenchmark/ | - | 2023-04-19 15:01:58 | 
| SummarizedExperiment/ | - | 2023-04-19 15:01:58 | 
| Summix/ | - | 2023-04-19 15:01:58 | 
| SwathXtend/ | - | 2023-04-19 15:01:58 | 
| SynExtend/ | - | 2023-04-19 15:01:58 | 
| SynMut/ | - | 2023-04-19 15:01:58 | 
| TADCompare/ | - | 2023-04-19 15:01:58 | 
| TAPseq/ | - | 2023-04-19 15:01:58 | 
| TBSignatureProfiler/ | - | 2023-04-19 15:01:58 | 
| TCC/ | - | 2023-04-19 15:01:58 | 
| TCGAbiolinks/ | - | 2023-04-19 15:01:58 | 
| TCGAbiolinksGUI/ | - | 2023-04-19 15:01:59 | 
| TCGAutils/ | - | 2023-04-19 15:01:59 | 
| TCseq/ | - | 2023-04-19 15:01:59 | 
| TDARACNE/ | - | 2023-04-19 15:01:59 | 
| TEKRABber/ | - | 2023-04-19 15:01:59 | 
| TENxIO/ | - | 2023-04-19 15:01:59 | 
| TEQC/ | - | 2023-04-19 15:01:59 | 
| TFARM/ | - | 2023-04-19 15:01:59 | 
| TFBSTools/ | - | 2023-04-19 15:01:59 | 
| TFEA.ChIP/ | - | 2023-04-19 15:01:59 | 
| TFHAZ/ | - | 2023-04-19 15:01:59 | 
| TFutils/ | - | 2023-04-19 15:01:59 | 
| TIN/ | - | 2023-04-19 15:01:59 | 
| TMixClust/ | - | 2023-04-19 15:01:59 | 
| TNBC.CMS/ | - | 2023-04-19 15:01:59 | 
| TOAST/ | - | 2023-04-19 15:01:59 | 
| TPP/ | - | 2023-04-19 15:01:59 | 
| TPP2D/ | - | 2023-04-19 15:01:59 | 
| TREG/ | - | 2023-04-19 15:01:59 | 
| TRESS/ | - | 2023-04-19 15:01:59 | 
| TRONCO/ | - | 2023-04-19 15:01:59 | 
| TSCAN/ | - | 2023-04-19 15:01:59 | 
| TTMap/ | - | 2023-04-19 15:01:59 | 
| TVTB/ | - | 2023-04-19 15:01:59 | 
| TarSeqQC/ | - | 2023-04-19 15:01:58 | 
| TargetDecoy/ | - | 2023-04-19 15:01:58 | 
| TargetScore/ | - | 2023-04-19 15:01:58 | 
| TargetSearch/ | - | 2023-04-19 15:01:58 | 
| TileDBArray/ | - | 2023-04-19 15:01:59 | 
| TimeSeriesExperiment/ | - | 2023-04-19 15:01:59 | 
| TimiRGeN/ | - | 2023-04-19 15:01:59 | 
| TissueEnrich/ | - | 2023-04-19 15:01:59 | 
| TitanCNA/ | - | 2023-04-19 15:01:59 | 
| TnT/ | - | 2023-04-19 15:01:59 | 
| ToxicoGx/ | - | 2023-04-19 15:01:59 | 
| TraRe/ | - | 2023-04-19 15:01:59 | 
| TrajectoryGeometry/ | - | 2023-04-19 15:01:59 | 
| TrajectoryUtils/ | - | 2023-04-19 15:01:59 | 
| TransView/ | - | 2023-04-19 15:01:59 | 
| Travel/ | - | 2023-04-19 15:01:59 | 
| TreeAndLeaf/ | - | 2023-04-19 15:01:59 | 
| TreeSummarizedExperiment/ | - | 2023-04-19 15:01:59 | 
| Trendy/ | - | 2023-04-19 15:01:59 | 
| TurboNorm/ | - | 2023-04-19 15:01:59 | 
| TypeInfo/ | - | 2023-04-19 15:01:59 | 
| UCell/ | - | 2023-04-19 15:01:59 | 
| UMI4Cats/ | - | 2023-04-19 15:01:59 | 
| UNDO/ | - | 2023-04-19 15:01:59 | 
| Ularcirc/ | - | 2023-04-19 15:01:59 | 
| UniProt.ws/ | - | 2023-04-19 15:01:59 | 
| Uniquorn/ | - | 2023-04-19 15:01:59 | 
| VAExprs/ | - | 2023-04-19 15:01:59 | 
| VCFArray/ | - | 2023-04-19 15:01:59 | 
| VDJdive/ | - | 2023-04-19 15:01:59 | 
| VERSO/ | - | 2023-04-19 15:01:59 | 
| VaSP/ | - | 2023-04-19 15:01:59 | 
| VanillaICE/ | - | 2023-04-19 15:01:59 | 
| VarCon/ | - | 2023-04-19 15:01:59 | 
| VariantAnnotation/ | - | 2023-04-19 15:01:59 | 
| VariantExperiment/ | - | 2023-04-19 15:01:59 | 
| VariantFiltering/ | - | 2023-04-19 15:01:59 | 
| VariantTools/ | - | 2023-04-19 15:01:59 | 
| VegaMC/ | - | 2023-04-19 15:01:59 | 
| VennDetail/ | - | 2023-04-19 15:01:59 | 
| ViSEAGO/ | - | 2023-04-19 15:01:59 | 
| Voyager/ | - | 2023-04-19 15:01:59 | 
| VplotR/ | - | 2023-04-19 15:01:59 | 
| Wrench/ | - | 2023-04-19 15:01:59 | 
| XCIR/ | - | 2023-04-19 15:01:59 | 
| XDE/ | - | 2023-04-19 15:01:59 | 
| XINA/ | - | 2023-04-19 15:01:59 | 
| XNAString/ | - | 2023-04-19 15:01:59 | 
| XVector/ | - | 2023-04-19 15:01:59 | 
| Xeva/ | - | 2023-04-19 15:01:59 | 
| YAPSA/ | - | 2023-04-19 15:01:59 | 
| a4/ | - | 2023-04-19 15:01:53 | 
| a4Base/ | - | 2023-04-19 15:01:53 | 
| a4Classif/ | - | 2023-04-19 15:01:53 | 
| a4Core/ | - | 2023-04-19 15:01:53 | 
| a4Preproc/ | - | 2023-04-19 15:01:53 | 
| a4Reporting/ | - | 2023-04-19 15:01:53 | 
| aCGH/ | - | 2023-04-19 15:01:53 | 
| abseqR/ | - | 2023-04-19 15:01:53 | 
| acde/ | - | 2023-04-19 15:01:53 | 
| adSplit/ | - | 2023-04-19 15:01:53 | 
| adductomicsR/ | - | 2023-04-19 15:01:53 | 
| affxparser/ | - | 2023-04-19 15:01:53 | 
| affy/ | - | 2023-04-19 15:01:53 | 
| affyContam/ | - | 2023-04-19 15:01:53 | 
| affyILM/ | - | 2023-04-19 15:01:53 | 
| affyPLM/ | - | 2023-04-19 15:01:53 | 
| affycomp/ | - | 2023-04-19 15:01:53 | 
| affycoretools/ | - | 2023-04-19 15:01:53 | 
| affyio/ | - | 2023-04-19 15:01:53 | 
| affylmGUI/ | - | 2023-04-19 15:01:53 | 
| aggregateBioVar/ | - | 2023-04-19 15:01:53 | 
| agilp/ | - | 2023-04-19 15:01:53 | 
| airpart/ | - | 2023-04-19 15:01:53 | 
| alevinQC/ | - | 2023-04-19 15:01:53 | 
| alpine/ | - | 2023-04-19 15:01:53 | 
| altcdfenvs/ | - | 2023-04-19 15:01:53 | 
| amplican/ | - | 2023-04-19 15:01:53 | 
| animalcules/ | - | 2023-04-19 15:01:53 | 
| annaffy/ | - | 2023-04-19 15:01:53 | 
| annmap/ | - | 2023-04-19 15:01:53 | 
| annotate/ | - | 2023-04-19 15:01:53 | 
| annotationTools/ | - | 2023-04-19 15:01:53 | 
| annotatr/ | - | 2023-04-19 15:01:53 | 
| anota/ | - | 2023-04-19 15:01:53 | 
| anota2seq/ | - | 2023-04-19 15:01:53 | 
| antiProfiles/ | - | 2023-04-19 15:01:53 | 
| apComplex/ | - | 2023-04-19 15:01:53 | 
| apeglm/ | - | 2023-04-19 15:01:53 | 
| appreci8R/ | - | 2023-04-19 15:01:53 | 
| aroma.light/ | - | 2023-04-19 15:01:53 | 
| arrayMvout/ | - | 2023-04-19 15:01:53 | 
| arrayQuality/ | - | 2023-04-19 15:01:53 | 
| arrayQualityMetrics/ | - | 2023-04-19 15:01:53 | 
| artMS/ | - | 2023-04-19 15:01:53 | 
| atSNP/ | - | 2023-04-19 15:01:53 | 
| atena/ | - | 2023-04-19 15:01:53 | 
| attract/ | - | 2023-04-19 15:01:53 | 
| autonomics/ | - | 2023-04-19 15:01:53 | 
| awst/ | - | 2023-04-19 15:01:53 | 
| bacon/ | - | 2023-04-19 15:01:53 | 
| ballgown/ | - | 2023-04-19 15:01:53 | 
| bambu/ | - | 2023-04-19 15:01:53 | 
| bamsignals/ | - | 2023-04-19 15:01:53 | 
| bandle/ | - | 2023-04-19 15:01:53 | 
| banocc/ | - | 2023-04-19 15:01:53 | 
| barcodetrackR/ | - | 2023-04-19 15:01:53 | 
| basecallQC/ | - | 2023-04-19 15:01:53 | 
| basilisk/ | - | 2023-04-19 15:01:53 | 
| basilisk.utils/ | - | 2023-04-19 15:01:53 | 
| batchelor/ | - | 2023-04-19 15:01:53 | 
| bayNorm/ | - | 2023-04-19 15:01:53 | 
| baySeq/ | - | 2023-04-19 15:01:53 | 
| bcSeq/ | - | 2023-04-19 15:01:53 | 
| beachmat/ | - | 2023-04-19 15:01:53 | 
| beadarray/ | - | 2023-04-19 15:01:53 | 
| beadarraySNP/ | - | 2023-04-19 15:01:53 | 
| beer/ | - | 2023-04-19 15:01:53 | 
| benchdamic/ | - | 2023-04-19 15:01:53 | 
| bgx/ | - | 2023-04-19 15:01:53 | 
| bigPint/ | - | 2023-04-19 15:01:53 | 
| bigmelon/ | - | 2023-04-19 15:01:53 | 
| bioCancer/ | - | 2023-04-19 15:01:53 | 
| bioDist/ | - | 2023-04-19 15:01:53 | 
| bioassayR/ | - | 2023-04-19 15:01:53 | 
| biobroom/ | - | 2023-04-19 15:01:53 | 
| biobtreeR/ | - | 2023-04-19 15:01:53 | 
| biocGraph/ | - | 2023-04-19 15:01:53 | 
| biocViews/ | - | 2023-04-19 15:01:53 | 
| biocthis/ | - | 2023-04-19 15:01:53 | 
| biodb/ | - | 2023-04-19 15:01:53 | 
| biodbChebi/ | - | 2023-04-19 15:01:53 | 
| biodbExpasy/ | - | 2023-04-19 15:01:53 | 
| biodbHmdb/ | - | 2023-04-19 15:01:53 | 
| biodbKegg/ | - | 2023-04-19 15:01:53 | 
| biodbLipidmaps/ | - | 2023-04-19 15:01:53 | 
| biodbMirbase/ | - | 2023-04-19 15:01:53 | 
| biodbNcbi/ | - | 2023-04-19 15:01:53 | 
| biodbNci/ | - | 2023-04-19 15:01:53 | 
| biodbUniprot/ | - | 2023-04-19 15:01:53 | 
| biomaRt/ | - | 2023-04-19 15:01:53 | 
| biomformat/ | - | 2023-04-19 15:01:53 | 
| biomvRCNS/ | - | 2023-04-19 15:01:53 | 
| biosigner/ | - | 2023-04-19 15:01:53 | 
| biotmle/ | - | 2023-04-19 15:01:53 | 
| biovizBase/ | - | 2023-04-19 15:01:53 | 
| biscuiteer/ | - | 2023-04-19 15:01:53 | 
| blacksheepr/ | - | 2023-04-19 15:01:53 | 
| blima/ | - | 2023-04-19 15:01:53 | 
| bluster/ | - | 2023-04-19 15:01:53 | 
| bnbc/ | - | 2023-04-19 15:01:53 | 
| bnem/ | - | 2023-04-19 15:01:53 | 
| borealis/ | - | 2023-04-19 15:01:53 | 
| brainflowprobes/ | - | 2023-04-19 15:01:53 | 
| branchpointer/ | - | 2023-04-19 15:01:53 | 
| breakpointR/ | - | 2023-04-19 15:01:53 | 
| brendaDb/ | - | 2023-04-19 15:01:53 | 
| bridge/ | - | 2023-04-19 15:01:53 | 
| bsseq/ | - | 2023-04-19 15:01:53 | 
| bugsigdbr/ | - | 2023-04-19 15:01:53 | 
| bumphunter/ | - | 2023-04-19 15:01:53 | 
| cBioPortalData/ | - | 2023-04-19 15:01:53 | 
| cTRAP/ | - | 2023-04-19 15:01:54 | 
| cageminer/ | - | 2023-04-19 15:01:53 | 
| calm/ | - | 2023-04-19 15:01:53 | 
| canceR/ | - | 2023-04-19 15:01:53 | 
| cancerclass/ | - | 2023-04-19 15:01:53 | 
| cardelino/ | - | 2023-04-19 15:01:53 | 
| casper/ | - | 2023-04-19 15:01:53 | 
| categoryCompare/ | - | 2023-04-19 15:01:53 | 
| cbaf/ | - | 2023-04-19 15:01:53 | 
| cbpManager/ | - | 2023-04-19 15:01:53 | 
| ccImpute/ | - | 2023-04-19 15:01:53 | 
| ccfindR/ | - | 2023-04-19 15:01:53 | 
| ccmap/ | - | 2023-04-19 15:01:53 | 
| ccrepe/ | - | 2023-04-19 15:01:53 | 
| ceRNAnetsim/ | - | 2023-04-19 15:01:53 | 
| celaref/ | - | 2023-04-19 15:01:53 | 
| celda/ | - | 2023-04-19 15:01:53 | 
| cellHTS2/ | - | 2023-04-19 15:01:53 | 
| cellTree/ | - | 2023-04-19 15:01:53 | 
| cellbaseR/ | - | 2023-04-19 15:01:53 | 
| cellity/ | - | 2023-04-19 15:01:53 | 
| cellmigRation/ | - | 2023-04-19 15:01:53 | 
| cellscape/ | - | 2023-04-19 15:01:53 | 
| cellxgenedp/ | - | 2023-04-19 15:01:53 | 
| censcyt/ | - | 2023-04-19 15:01:53 | 
| cfDNAPro/ | - | 2023-04-19 15:01:53 | 
| cghMCR/ | - | 2023-04-19 15:01:53 | 
| chimeraviz/ | - | 2023-04-19 15:01:53 | 
| chipenrich/ | - | 2023-04-19 15:01:53 | 
| chipseq/ | - | 2023-04-19 15:01:53 | 
| chopsticks/ | - | 2023-04-19 15:01:53 | 
| chromDraw/ | - | 2023-04-19 15:01:53 | 
| chromPlot/ | - | 2023-04-19 15:01:53 | 
| chromVAR/ | - | 2023-04-19 15:01:53 | 
| chromstaR/ | - | 2023-04-19 15:01:53 | 
| chromswitch/ | - | 2023-04-19 15:01:53 | 
| cicero/ | - | 2023-04-19 15:01:53 | 
| circRNAprofiler/ | - | 2023-04-19 15:01:53 | 
| cisPath/ | - | 2023-04-19 15:01:53 | 
| cleanUpdTSeq/ | - | 2023-04-19 15:01:53 | 
| cleaver/ | - | 2023-04-19 15:01:53 | 
| cliProfiler/ | - | 2023-04-19 15:01:53 | 
| clippda/ | - | 2023-04-19 15:01:53 | 
| clipper/ | - | 2023-04-19 15:01:53 | 
| cliqueMS/ | - | 2023-04-19 15:01:53 | 
| clst/ | - | 2023-04-19 15:01:53 | 
| clstutils/ | - | 2023-04-19 15:01:53 | 
| clustComp/ | - | 2023-04-19 15:01:53 | 
| clusterExperiment/ | - | 2023-04-19 15:01:53 | 
| clusterProfiler/ | - | 2023-04-19 15:01:53 | 
| clusterSeq/ | - | 2023-04-19 15:01:53 | 
| clusterStab/ | - | 2023-04-19 15:01:53 | 
| clustifyr/ | - | 2023-04-19 15:01:53 | 
| cmapR/ | - | 2023-04-19 15:01:53 | 
| cn.farms/ | - | 2023-04-19 15:01:53 | 
| cn.mops/ | - | 2023-04-19 15:01:53 | 
| cnvGSA/ | - | 2023-04-19 15:01:53 | 
| coGPS/ | - | 2023-04-19 15:01:53 | 
| coMET/ | - | 2023-04-19 15:01:53 | 
| coMethDMR/ | - | 2023-04-19 15:01:53 | 
| coRdon/ | - | 2023-04-19 15:01:54 | 
| codelink/ | - | 2023-04-19 15:01:53 | 
| coexnet/ | - | 2023-04-19 15:01:53 | 
| cogena/ | - | 2023-04-19 15:01:53 | 
| cogeqc/ | - | 2023-04-19 15:01:53 | 
| cola/ | - | 2023-04-19 15:01:53 | 
| comapr/ | - | 2023-04-19 15:01:53 | 
| combi/ | - | 2023-04-19 15:01:53 | 
| compEpiTools/ | - | 2023-04-19 15:01:54 | 
| compartmap/ | - | 2023-04-19 15:01:54 | 
| compcodeR/ | - | 2023-04-19 15:01:54 | 
| conclus/ | - | 2023-04-19 15:01:54 | 
| condiments/ | - | 2023-04-19 15:01:54 | 
| consICA/ | - | 2023-04-19 15:01:54 | 
| consensus/ | - | 2023-04-19 15:01:54 | 
| consensusDE/ | - | 2023-04-19 15:01:54 | 
| consensusOV/ | - | 2023-04-19 15:01:54 | 
| consensusSeekeR/ | - | 2023-04-19 15:01:54 | 
| contiBAIT/ | - | 2023-04-19 15:01:54 | 
| conumee/ | - | 2023-04-19 15:01:54 | 
| convert/ | - | 2023-04-19 15:01:54 | 
| copa/ | - | 2023-04-19 15:01:54 | 
| copynumber/ | - | 2023-04-19 15:01:54 | 
| corral/ | - | 2023-04-19 15:01:54 | 
| coseq/ | - | 2023-04-19 15:01:54 | 
| cosmiq/ | - | 2023-04-19 15:01:54 | 
| cosmosR/ | - | 2023-04-19 15:01:54 | 
| countsimQC/ | - | 2023-04-19 15:01:54 | 
| covEB/ | - | 2023-04-19 15:01:54 | 
| covRNA/ | - | 2023-04-19 15:01:54 | 
| cpvSNP/ | - | 2023-04-19 15:01:54 | 
| cqn/ | - | 2023-04-19 15:01:54 | 
| crisprBase/ | - | 2023-04-19 15:01:54 | 
| crisprBowtie/ | - | 2023-04-19 15:01:54 | 
| crisprBwa/ | - | 2023-04-19 15:01:54 | 
| crisprDesign/ | - | 2023-04-19 15:01:54 | 
| crisprScore/ | - | 2023-04-19 15:01:54 | 
| crisprVerse/ | - | 2023-04-19 15:01:54 | 
| crisprViz/ | - | 2023-04-19 15:01:54 | 
| crisprseekplus/ | - | 2023-04-19 15:01:54 | 
| crlmm/ | - | 2023-04-19 15:01:54 | 
| crossmeta/ | - | 2023-04-19 15:01:54 | 
| csaw/ | - | 2023-04-19 15:01:54 | 
| csdR/ | - | 2023-04-19 15:01:54 | 
| ctc/ | - | 2023-04-19 15:01:54 | 
| ctgGEM/ | - | 2023-04-19 15:01:54 | 
| ctsGE/ | - | 2023-04-19 15:01:54 | 
| cummeRbund/ | - | 2023-04-19 15:01:54 | 
| customCMPdb/ | - | 2023-04-19 15:01:54 | 
| customProDB/ | - | 2023-04-19 15:01:54 | 
| cyanoFilter/ | - | 2023-04-19 15:01:54 | 
| cycle/ | - | 2023-04-19 15:01:54 | 
| cydar/ | - | 2023-04-19 15:01:54 | 
| cytoKernel/ | - | 2023-04-19 15:01:54 | 
| cytoMEM/ | - | 2023-04-19 15:01:54 | 
| cytolib/ | - | 2023-04-19 15:01:54 | 
| cytomapper/ | - | 2023-04-19 15:01:54 | 
| dStruct/ | - | 2023-04-19 15:01:54 | 
| daMA/ | - | 2023-04-19 15:01:54 | 
| dada2/ | - | 2023-04-19 15:01:54 | 
| dagLogo/ | - | 2023-04-19 15:01:54 | 
| dasper/ | - | 2023-04-19 15:01:54 | 
| dcGSA/ | - | 2023-04-19 15:01:54 | 
| dcanr/ | - | 2023-04-19 15:01:54 | 
| dce/ | - | 2023-04-19 15:01:54 | 
| ddCt/ | - | 2023-04-19 15:01:54 | 
| ddPCRclust/ | - | 2023-04-19 15:01:54 | 
| dearseq/ | - | 2023-04-19 15:01:54 | 
| debCAM/ | - | 2023-04-19 15:01:54 | 
| debrowser/ | - | 2023-04-19 15:01:54 | 
| deco/ | - | 2023-04-19 15:01:54 | 
| decompTumor2Sig/ | - | 2023-04-19 15:01:54 | 
| decontam/ | - | 2023-04-19 15:01:54 | 
| deconvR/ | - | 2023-04-19 15:01:54 | 
| decoupleR/ | - | 2023-04-19 15:01:54 | 
| deepSNV/ | - | 2023-04-19 15:01:54 | 
| deltaCaptureC/ | - | 2023-04-19 15:01:54 | 
| deltaGseg/ | - | 2023-04-19 15:01:54 | 
| demuxmix/ | - | 2023-04-19 15:01:54 | 
| densvis/ | - | 2023-04-19 15:01:54 | 
| derfinder/ | - | 2023-04-19 15:01:54 | 
| derfinderHelper/ | - | 2023-04-19 15:01:54 | 
| derfinderPlot/ | - | 2023-04-19 15:01:54 | 
| destiny/ | - | 2023-04-19 15:01:54 | 
| diffGeneAnalysis/ | - | 2023-04-19 15:01:54 | 
| diffHic/ | - | 2023-04-19 15:01:54 | 
| diffUTR/ | - | 2023-04-19 15:01:54 | 
| diffcoexp/ | - | 2023-04-19 15:01:54 | 
| diffcyt/ | - | 2023-04-19 15:01:54 | 
| diffuStats/ | - | 2023-04-19 15:01:54 | 
| diggit/ | - | 2023-04-19 15:01:54 | 
| dir.expiry/ | - | 2023-04-19 15:01:54 | 
| discordant/ | - | 2023-04-19 15:01:54 | 
| distinct/ | - | 2023-04-19 15:01:54 | 
| dittoSeq/ | - | 2023-04-19 15:01:54 | 
| divergence/ | - | 2023-04-19 15:01:54 | 
| dks/ | - | 2023-04-19 15:01:54 | 
| dmrseq/ | - | 2023-04-19 15:01:54 | 
| doppelgangR/ | - | 2023-04-19 15:01:54 | 
| doseR/ | - | 2023-04-19 15:01:54 | 
| dpeak/ | - | 2023-04-19 15:01:54 | 
| drawProteins/ | - | 2023-04-19 15:01:54 | 
| drugTargetInteractions/ | - | 2023-04-19 15:01:54 | 
| dupRadar/ | - | 2023-04-19 15:01:54 | 
| dyebias/ | - | 2023-04-19 15:01:54 | 
| easier/ | - | 2023-04-19 15:01:54 | 
| easyRNASeq/ | - | 2023-04-19 15:01:54 | 
| easyreporting/ | - | 2023-04-19 15:01:54 | 
| ecolitk/ | - | 2023-04-19 15:01:54 | 
| edge/ | - | 2023-04-19 15:01:54 | 
| edgeR/ | - | 2023-04-19 15:01:54 | 
| eds/ | - | 2023-04-19 15:01:54 | 
| eegc/ | - | 2023-04-19 15:01:54 | 
| eiR/ | - | 2023-04-19 15:01:54 | 
| eisaR/ | - | 2023-04-19 15:01:54 | 
| enhancerHomologSearch/ | - | 2023-04-19 15:01:54 | 
| enrichTF/ | - | 2023-04-19 15:01:54 | 
| enrichplot/ | - | 2023-04-19 15:01:54 | 
| ensemblVEP/ | - | 2023-04-19 15:01:54 | 
| ensembldb/ | - | 2023-04-19 15:01:54 | 
| epiNEM/ | - | 2023-04-19 15:01:54 | 
| epialleleR/ | - | 2023-04-19 15:01:54 | 
| epidecodeR/ | - | 2023-04-19 15:01:54 | 
| epigenomix/ | - | 2023-04-19 15:01:54 | 
| epigraHMM/ | - | 2023-04-19 15:01:54 | 
| epihet/ | - | 2023-04-19 15:01:54 | 
| epimutacions/ | - | 2023-04-19 15:01:54 | 
| epistack/ | - | 2023-04-19 15:01:54 | 
| epistasisGA/ | - | 2023-04-19 15:01:54 | 
| epivizr/ | - | 2023-04-19 15:01:54 | 
| epivizrChart/ | - | 2023-04-19 15:01:54 | 
| epivizrData/ | - | 2023-04-19 15:01:54 | 
| epivizrServer/ | - | 2023-04-19 15:01:54 | 
| epivizrStandalone/ | - | 2023-04-19 15:01:54 | 
| erccdashboard/ | - | 2023-04-19 15:01:54 | 
| erma/ | - | 2023-04-19 15:01:54 | 
| esATAC/ | - | 2023-04-19 15:01:54 | 
| escape/ | - | 2023-04-19 15:01:54 | 
| esetVis/ | - | 2023-04-19 15:01:54 | 
| eudysbiome/ | - | 2023-04-19 15:01:54 | 
| evaluomeR/ | - | 2023-04-19 15:01:54 | 
| exomeCopy/ | - | 2023-04-19 15:01:54 | 
| exomePeak2/ | - | 2023-04-19 15:01:54 | 
| extraChIPs/ | - | 2023-04-19 15:01:54 | 
| fCCAC/ | - | 2023-04-19 15:01:54 | 
| fCI/ | - | 2023-04-19 15:01:54 | 
| fabia/ | - | 2023-04-19 15:01:54 | 
| factDesign/ | - | 2023-04-19 15:01:54 | 
| factR/ | - | 2023-04-19 15:01:54 | 
| famat/ | - | 2023-04-19 15:01:54 | 
| farms/ | - | 2023-04-19 15:01:54 | 
| fastLiquidAssociation/ | - | 2023-04-19 15:01:54 | 
| fastreeR/ | - | 2023-04-19 15:01:54 | 
| fastseg/ | - | 2023-04-19 15:01:54 | 
| fcScan/ | - | 2023-04-19 15:01:54 | 
| fcoex/ | - | 2023-04-19 15:01:54 | 
| fdrame/ | - | 2023-04-19 15:01:54 | 
| fedup/ | - | 2023-04-19 15:01:54 | 
| ffpe/ | - | 2023-04-19 15:01:54 | 
| fgga/ | - | 2023-04-19 15:01:54 | 
| fgsea/ | - | 2023-04-19 15:01:54 | 
| fishpond/ | - | 2023-04-19 15:01:54 | 
| flagme/ | - | 2023-04-19 15:01:54 | 
| flowAI/ | - | 2023-04-19 15:01:54 | 
| flowBeads/ | - | 2023-04-19 15:01:54 | 
| flowBin/ | - | 2023-04-19 15:01:54 | 
| flowCHIC/ | - | 2023-04-19 15:01:54 | 
| flowCL/ | - | 2023-04-19 15:01:54 | 
| flowClean/ | - | 2023-04-19 15:01:54 | 
| flowClust/ | - | 2023-04-19 15:01:54 | 
| flowCore/ | - | 2023-04-19 15:01:54 | 
| flowCut/ | - | 2023-04-19 15:01:54 | 
| flowCyBar/ | - | 2023-04-19 15:01:54 | 
| flowDensity/ | - | 2023-04-19 15:01:54 | 
| flowFP/ | - | 2023-04-19 15:01:54 | 
| flowGraph/ | - | 2023-04-19 15:01:54 | 
| flowMap/ | - | 2023-04-19 15:01:54 | 
| flowMatch/ | - | 2023-04-19 15:01:54 | 
| flowMeans/ | - | 2023-04-19 15:01:54 | 
| flowMerge/ | - | 2023-04-19 15:01:54 | 
| flowPeaks/ | - | 2023-04-19 15:01:54 | 
| flowPloidy/ | - | 2023-04-19 15:01:54 | 
| flowPlots/ | - | 2023-04-19 15:01:54 | 
| flowSpecs/ | - | 2023-04-19 15:01:54 | 
| flowStats/ | - | 2023-04-19 15:01:54 | 
| flowTime/ | - | 2023-04-19 15:01:54 | 
| flowTrans/ | - | 2023-04-19 15:01:54 | 
| flowUtils/ | - | 2023-04-19 15:01:54 | 
| flowVS/ | - | 2023-04-19 15:01:54 | 
| flowViz/ | - | 2023-04-19 15:01:54 | 
| flowWorkspace/ | - | 2023-04-19 15:01:54 | 
| flowcatchR/ | - | 2023-04-19 15:01:54 | 
| fmcsR/ | - | 2023-04-19 15:01:54 | 
| fmrs/ | - | 2023-04-19 15:01:54 | 
| fobitools/ | - | 2023-04-19 15:01:54 | 
| frenchFISH/ | - | 2023-04-19 15:01:54 | 
| frma/ | - | 2023-04-19 15:01:54 | 
| frmaTools/ | - | 2023-04-19 15:01:54 | 
| funtooNorm/ | - | 2023-04-19 15:01:54 | 
| gCrisprTools/ | - | 2023-04-19 15:01:54 | 
| gaga/ | - | 2023-04-19 15:01:54 | 
| gage/ | - | 2023-04-19 15:01:54 | 
| gaggle/ | - | 2023-04-19 15:01:54 | 
| gaia/ | - | 2023-04-19 15:01:54 | 
| garfield/ | - | 2023-04-19 15:01:54 | 
| gcapc/ | - | 2023-04-19 15:01:54 | 
| gcatest/ | - | 2023-04-19 15:01:54 | 
| gcrma/ | - | 2023-04-19 15:01:54 | 
| gdsfmt/ | - | 2023-04-19 15:01:54 | 
| geNetClassifier/ | - | 2023-04-19 15:01:54 | 
| gemini/ | - | 2023-04-19 15:01:54 | 
| gemma.R/ | - | 2023-04-19 15:01:54 | 
| genArise/ | - | 2023-04-19 15:01:54 | 
| genbankr/ | - | 2023-04-19 15:01:54 | 
| geneAttribution/ | - | 2023-04-19 15:01:54 | 
| geneClassifiers/ | - | 2023-04-19 15:01:54 | 
| geneRecommender/ | - | 2023-04-19 15:01:54 | 
| geneRxCluster/ | - | 2023-04-19 15:01:54 | 
| geneXtendeR/ | - | 2023-04-19 15:01:54 | 
| genefilter/ | - | 2023-04-19 15:01:54 | 
| genefu/ | - | 2023-04-19 15:01:54 | 
| geneplast/ | - | 2023-04-19 15:01:54 | 
| geneplotter/ | - | 2023-04-19 15:01:54 | 
| genoCN/ | - | 2023-04-19 15:01:54 | 
| genomation/ | - | 2023-04-19 15:01:54 | 
| genomeIntervals/ | - | 2023-04-19 15:01:54 | 
| genomes/ | - | 2023-04-19 15:01:54 | 
| genomicInstability/ | - | 2023-04-19 15:01:55 | 
| genotypeeval/ | - | 2023-04-19 15:01:55 | 
| gep2pep/ | - | 2023-04-19 15:01:55 | 
| gespeR/ | - | 2023-04-19 15:01:55 | 
| getDEE2/ | - | 2023-04-19 15:01:55 | 
| geva/ | - | 2023-04-19 15:01:55 | 
| ggbio/ | - | 2023-04-19 15:01:55 | 
| ggcyto/ | - | 2023-04-19 15:01:55 | 
| ggmanh/ | - | 2023-04-19 15:01:55 | 
| ggmsa/ | - | 2023-04-19 15:01:55 | 
| ggspavis/ | - | 2023-04-19 15:01:55 | 
| ggtree/ | - | 2023-04-19 15:01:55 | 
| ggtreeDendro/ | - | 2023-04-19 15:01:55 | 
| ggtreeExtra/ | - | 2023-04-19 15:01:55 | 
| girafe/ | - | 2023-04-19 15:01:55 | 
| glmGamPoi/ | - | 2023-04-19 15:01:55 | 
| glmSparseNet/ | - | 2023-04-19 15:01:55 | 
| globalSeq/ | - | 2023-04-19 15:01:55 | 
| globaltest/ | - | 2023-04-19 15:01:55 | 
| gmapR/ | - | 2023-04-19 15:01:55 | 
| gmoviz/ | - | 2023-04-19 15:01:55 | 
| goProfiles/ | - | 2023-04-19 15:01:55 | 
| goSTAG/ | - | 2023-04-19 15:01:55 | 
| goSorensen/ | - | 2023-04-19 15:01:55 | 
| goTools/ | - | 2023-04-19 15:01:55 | 
| goseq/ | - | 2023-04-19 15:01:55 | 
| gpart/ | - | 2023-04-19 15:01:55 | 
| gpls/ | - | 2023-04-19 15:01:55 | 
| gpuMagic/ | - | 2023-04-19 15:01:55 | 
| granulator/ | - | 2023-04-19 15:01:55 | 
| graper/ | - | 2023-04-19 15:01:55 | 
| graph/ | - | 2023-04-19 15:01:55 | 
| graphite/ | - | 2023-04-19 15:01:55 | 
| groHMM/ | - | 2023-04-19 15:01:55 | 
| gscreend/ | - | 2023-04-19 15:01:55 | 
| gsean/ | - | 2023-04-19 15:01:55 | 
| gtrellis/ | - | 2023-04-19 15:01:55 | 
| gwascat/ | - | 2023-04-19 15:01:55 | 
| gwasurvivr/ | - | 2023-04-19 15:01:55 | 
| h5vc/ | - | 2023-04-19 15:01:55 | 
| hapFabia/ | - | 2023-04-19 15:01:55 | 
| hca/ | - | 2023-04-19 15:01:55 | 
| heatmaps/ | - | 2023-04-19 15:01:55 | 
| hermes/ | - | 2023-04-19 15:01:55 | 
| hiAnnotator/ | - | 2023-04-19 15:01:55 | 
| hiReadsProcessor/ | - | 2023-04-19 15:01:55 | 
| hierGWAS/ | - | 2023-04-19 15:01:55 | 
| hierinf/ | - | 2023-04-19 15:01:55 | 
| hipathia/ | - | 2023-04-19 15:01:55 | 
| hmdbQuery/ | - | 2023-04-19 15:01:55 | 
| hopach/ | - | 2023-04-19 15:01:55 | 
| hpar/ | - | 2023-04-19 15:01:55 | 
| hummingbird/ | - | 2023-04-19 15:01:55 | 
| hypeR/ | - | 2023-04-19 15:01:55 | 
| hyperdraw/ | - | 2023-04-19 15:01:55 | 
| hypergraph/ | - | 2023-04-19 15:01:55 | 
| iASeq/ | - | 2023-04-19 15:01:55 | 
| iBBiG/ | - | 2023-04-19 15:01:55 | 
| iBMQ/ | - | 2023-04-19 15:01:49 | 
| iCARE/ | - | 2023-04-19 15:01:55 | 
| iCNV/ | - | 2023-04-19 15:01:55 | 
| iCOBRA/ | - | 2023-04-19 15:01:55 | 
| iCheck/ | - | 2023-04-19 15:01:55 | 
| iChip/ | - | 2023-04-19 15:01:55 | 
| iClusterPlus/ | - | 2023-04-19 15:01:55 | 
| iGC/ | - | 2023-04-19 15:01:55 | 
| iPAC/ | - | 2023-04-19 15:01:55 | 
| iPath/ | - | 2023-04-19 15:01:55 | 
| iSEE/ | - | 2023-04-19 15:01:55 | 
| iSEEhex/ | - | 2023-04-19 15:01:55 | 
| iSEEhub/ | - | 2023-04-19 15:01:55 | 
| iSEEu/ | - | 2023-04-19 15:01:55 | 
| iSeq/ | - | 2023-04-19 15:01:55 | 
| iasva/ | - | 2023-04-19 15:01:55 | 
| ibh/ | - | 2023-04-19 15:01:55 | 
| icetea/ | - | 2023-04-19 15:01:55 | 
| ideal/ | - | 2023-04-19 15:01:55 | 
| idiogram/ | - | 2023-04-19 15:01:55 | 
| idpr/ | - | 2023-04-19 15:01:55 | 
| idr2d/ | - | 2023-04-19 15:01:55 | 
| igvR/ | - | 2023-04-19 15:01:55 | 
| illuminaio/ | - | 2023-04-19 15:01:55 | 
| imageHTS/ | - | 2023-04-19 15:01:55 | 
| imcRtools/ | - | 2023-04-19 15:01:55 | 
| immunoClust/ | - | 2023-04-19 15:01:55 | 
| immunotation/ | - | 2023-04-19 15:01:55 | 
| impute/ | - | 2023-04-19 15:01:55 | 
| infercnv/ | - | 2023-04-19 15:01:55 | 
| infinityFlow/ | - | 2023-04-19 15:01:55 | 
| intansv/ | - | 2023-04-19 15:01:55 | 
| interacCircos/ | - | 2023-04-19 15:01:55 | 
| interactiveDisplay/ | - | 2023-04-19 15:01:55 | 
| interactiveDisplayBase/ | - | 2023-04-19 15:01:55 | 
| inveRsion/ | - | 2023-04-19 15:01:55 | 
| ipdDb/ | - | 2023-04-19 15:01:55 | 
| isobar/ | - | 2023-04-19 15:01:55 | 
| isomiRs/ | - | 2023-04-19 15:01:55 | 
| iterClust/ | - | 2023-04-19 15:01:55 | 
| iterativeBMA/ | - | 2023-04-19 15:01:55 | 
| iterativeBMAsurv/ | - | 2023-04-19 15:01:55 | 
| iteremoval/ | - | 2023-04-19 15:01:55 | 
| ivygapSE/ | - | 2023-04-19 15:01:55 | 
| karyoploteR/ | - | 2023-04-19 15:01:55 | 
| katdetectr/ | - | 2023-04-19 15:01:55 | 
| kebabs/ | - | 2023-04-19 15:01:55 | 
| keggorthology/ | - | 2023-04-19 15:01:55 | 
| kissDE/ | - | 2023-04-19 15:01:55 | 
| lapmix/ | - | 2023-04-19 15:01:55 | 
| ldblock/ | - | 2023-04-19 15:01:55 | 
| lefser/ | - | 2023-04-19 15:01:55 | 
| les/ | - | 2023-04-19 15:01:55 | 
| levi/ | - | 2023-04-19 15:01:55 | 
| lfa/ | - | 2023-04-19 15:01:55 | 
| limma/ | - | 2023-04-19 15:01:55 | 
| limmaGUI/ | - | 2023-04-19 15:01:55 | 
| lineagespot/ | - | 2023-04-19 15:01:55 | 
| lionessR/ | - | 2023-04-19 15:01:55 | 
| lipidr/ | - | 2023-04-19 15:01:55 | 
| lisaClust/ | - | 2023-04-19 15:01:55 | 
| lmdme/ | - | 2023-04-19 15:01:55 | 
| loci2path/ | - | 2023-04-19 15:01:55 | 
| logicFS/ | - | 2023-04-19 15:01:55 | 
| logitT/ | - | 2023-04-19 15:01:55 | 
| lpNet/ | - | 2023-04-19 15:01:55 | 
| lpsymphony/ | - | 2023-04-19 15:01:55 | 
| lumi/ | - | 2023-04-19 15:01:55 | 
| m6Aboost/ | - | 2023-04-19 15:01:55 | 
| mAPKL/ | - | 2023-04-19 15:01:55 | 
| mBPCR/ | - | 2023-04-19 15:01:55 | 
| mCSEA/ | - | 2023-04-19 15:01:55 | 
| maCorrPlot/ | - | 2023-04-19 15:01:55 | 
| maPredictDSC/ | - | 2023-04-19 15:01:55 | 
| maSigPro/ | - | 2023-04-19 15:01:55 | 
| maanova/ | - | 2023-04-19 15:01:55 | 
| macat/ | - | 2023-04-19 15:01:55 | 
| made4/ | - | 2023-04-19 15:01:55 | 
| maftools/ | - | 2023-04-19 15:01:55 | 
| magrene/ | - | 2023-04-19 15:01:55 | 
| maigesPack/ | - | 2023-04-19 15:01:55 | 
| makecdfenv/ | - | 2023-04-19 15:01:55 | 
| mapscape/ | - | 2023-04-19 15:01:55 | 
| marr/ | - | 2023-04-19 15:01:55 | 
| marray/ | - | 2023-04-19 15:01:55 | 
| martini/ | - | 2023-04-19 15:01:55 | 
| maser/ | - | 2023-04-19 15:01:55 | 
| maskBAD/ | - | 2023-04-19 15:01:55 | 
| massiR/ | - | 2023-04-19 15:01:55 | 
| matchBox/ | - | 2023-04-19 15:01:55 | 
| matter/ | - | 2023-04-19 15:01:55 | 
| mbOmic/ | - | 2023-04-19 15:01:55 | 
| mbkmeans/ | - | 2023-04-19 15:01:55 | 
| mdp/ | - | 2023-04-19 15:01:55 | 
| mdqc/ | - | 2023-04-19 15:01:55 | 
| megadepth/ | - | 2023-04-19 15:01:55 | 
| memes/ | - | 2023-04-19 15:01:56 | 
| meshes/ | - | 2023-04-19 15:01:56 | 
| meshr/ | - | 2023-04-19 15:01:56 | 
| messina/ | - | 2023-04-19 15:01:56 | 
| metaCCA/ | - | 2023-04-19 15:01:56 | 
| metaMS/ | - | 2023-04-19 15:01:56 | 
| metaSeq/ | - | 2023-04-19 15:01:56 | 
| metabCombiner/ | - | 2023-04-19 15:01:56 | 
| metabinR/ | - | 2023-04-19 15:01:56 | 
| metabolomicsWorkbenchR/ | - | 2023-04-19 15:01:56 | 
| metabomxtr/ | - | 2023-04-19 15:01:56 | 
| metagene/ | - | 2023-04-19 15:01:56 | 
| metagene2/ | - | 2023-04-19 15:01:56 | 
| metagenomeSeq/ | - | 2023-04-19 15:01:56 | 
| metahdep/ | - | 2023-04-19 15:01:56 | 
| metapod/ | - | 2023-04-19 15:01:56 | 
| metapone/ | - | 2023-04-19 15:01:56 | 
| metaseqR2/ | - | 2023-04-19 15:01:56 | 
| metavizr/ | - | 2023-04-19 15:01:56 | 
| methInheritSim/ | - | 2023-04-19 15:01:56 | 
| methimpute/ | - | 2023-04-19 15:01:56 | 
| methrix/ | - | 2023-04-19 15:01:56 | 
| methylCC/ | - | 2023-04-19 15:01:56 | 
| methylGSA/ | - | 2023-04-19 15:01:56 | 
| methylInheritance/ | - | 2023-04-19 15:01:56 | 
| methylKit/ | - | 2023-04-19 15:01:56 | 
| methylMnM/ | - | 2023-04-19 15:01:56 | 
| methylPipe/ | - | 2023-04-19 15:01:56 | 
| methylSig/ | - | 2023-04-19 15:01:56 | 
| methylclock/ | - | 2023-04-19 15:01:56 | 
| methylscaper/ | - | 2023-04-19 15:01:56 | 
| methylumi/ | - | 2023-04-19 15:01:56 | 
| mfa/ | - | 2023-04-19 15:01:56 | 
| mgsa/ | - | 2023-04-19 15:01:56 | 
| miQC/ | - | 2023-04-19 15:01:56 | 
| miRBaseConverter/ | - | 2023-04-19 15:01:56 | 
| miRLAB/ | - | 2023-04-19 15:01:56 | 
| miRNAmeConverter/ | - | 2023-04-19 15:01:56 | 
| miRNApath/ | - | 2023-04-19 15:01:56 | 
| miRNAtap/ | - | 2023-04-19 15:01:56 | 
| miRSM/ | - | 2023-04-19 15:01:56 | 
| miRcomp/ | - | 2023-04-19 15:01:56 | 
| miRmine/ | - | 2023-04-19 15:01:56 | 
| miRspongeR/ | - | 2023-04-19 15:01:56 | 
| mia/ | - | 2023-04-19 15:01:56 | 
| miaSim/ | - | 2023-04-19 15:01:56 | 
| miaViz/ | - | 2023-04-19 15:01:56 | 
| microRNA/ | - | 2023-04-19 15:01:56 | 
| microbiome/ | - | 2023-04-19 15:01:56 | 
| microbiomeDASim/ | - | 2023-04-19 15:01:56 | 
| microbiomeExplorer/ | - | 2023-04-19 15:01:56 | 
| microbiomeMarker/ | - | 2023-04-19 15:01:56 | 
| midasHLA/ | - | 2023-04-19 15:01:56 | 
| miloR/ | - | 2023-04-19 15:01:56 | 
| mimager/ | - | 2023-04-19 15:01:56 | 
| mina/ | - | 2023-04-19 15:01:56 | 
| minet/ | - | 2023-04-19 15:01:56 | 
| minfi/ | - | 2023-04-19 15:01:56 | 
| mirIntegrator/ | - | 2023-04-19 15:01:56 | 
| mirTarRnaSeq/ | - | 2023-04-19 15:01:56 | 
| missMethyl/ | - | 2023-04-19 15:01:56 | 
| missRows/ | - | 2023-04-19 15:01:56 | 
| mistyR/ | - | 2023-04-19 15:01:56 | 
| mitch/ | - | 2023-04-19 15:01:56 | 
| mitoClone2/ | - | 2023-04-19 15:01:56 | 
| mixOmics/ | - | 2023-04-19 15:01:56 | 
| mnem/ | - | 2023-04-19 15:01:56 | 
| moanin/ | - | 2023-04-19 15:01:56 | 
| mogsa/ | - | 2023-04-19 15:01:56 | 
| monaLisa/ | - | 2023-04-19 15:01:56 | 
| monocle/ | - | 2023-04-19 15:01:56 | 
| mosaics/ | - | 2023-04-19 15:01:56 | 
| mosbi/ | - | 2023-04-19 15:01:56 | 
| motifStack/ | - | 2023-04-19 15:01:56 | 
| motifbreakR/ | - | 2023-04-19 15:01:56 | 
| motifcounter/ | - | 2023-04-19 15:01:56 | 
| motifmatchr/ | - | 2023-04-19 15:01:56 | 
| mpra/ | - | 2023-04-19 15:01:56 | 
| msImpute/ | - | 2023-04-19 15:01:56 | 
| msPurity/ | - | 2023-04-19 15:01:56 | 
| msa/ | - | 2023-04-19 15:01:56 | 
| msgbsR/ | - | 2023-04-19 15:01:56 | 
| mslp/ | - | 2023-04-19 15:01:56 | 
| msmsEDA/ | - | 2023-04-19 15:01:56 | 
| msmsTests/ | - | 2023-04-19 15:01:56 | 
| msqrob2/ | - | 2023-04-19 15:01:56 | 
| multiClust/ | - | 2023-04-19 15:01:56 | 
| multiGSEA/ | - | 2023-04-19 15:01:56 | 
| multiHiCcompare/ | - | 2023-04-19 15:01:56 | 
| multiMiR/ | - | 2023-04-19 15:01:56 | 
| multiOmicsViz/ | - | 2023-04-19 15:01:56 | 
| multiSight/ | - | 2023-04-19 15:01:56 | 
| multicrispr/ | - | 2023-04-19 15:01:56 | 
| multiscan/ | - | 2023-04-19 15:01:56 | 
| multtest/ | - | 2023-04-19 15:01:56 | 
| mumosa/ | - | 2023-04-19 15:01:56 | 
| muscat/ | - | 2023-04-19 15:01:56 | 
| muscle/ | - | 2023-04-19 15:01:56 | 
| musicatk/ | - | 2023-04-19 15:01:56 | 
| mygene/ | - | 2023-04-19 15:01:56 | 
| myvariant/ | - | 2023-04-19 15:01:56 | 
| mzID/ | - | 2023-04-19 15:01:56 | 
| mzR/ | - | 2023-04-19 15:01:56 | 
| nanotatoR/ | - | 2023-04-19 15:01:56 | 
| ncGTW/ | - | 2023-04-19 15:01:56 | 
| ncRNAtools/ | - | 2023-04-19 15:01:56 | 
| ncdfFlow/ | - | 2023-04-19 15:01:56 | 
| ndexr/ | - | 2023-04-19 15:01:56 | 
| nearBynding/ | - | 2023-04-19 15:01:56 | 
| nempi/ | - | 2023-04-19 15:01:56 | 
| netDx/ | - | 2023-04-19 15:01:56 | 
| netOmics/ | - | 2023-04-19 15:01:56 | 
| netSmooth/ | - | 2023-04-19 15:01:56 | 
| netZooR/ | - | 2023-04-19 15:01:56 | 
| netbiov/ | - | 2023-04-19 15:01:56 | 
| netboost/ | - | 2023-04-19 15:01:56 | 
| netboxr/ | - | 2023-04-19 15:01:56 | 
| nethet/ | - | 2023-04-19 15:01:56 | 
| netprioR/ | - | 2023-04-19 15:01:56 | 
| netresponse/ | - | 2023-04-19 15:01:56 | 
| ngsReports/ | - | 2023-04-19 15:01:56 | 
| nnNorm/ | - | 2023-04-19 15:01:56 | 
| nnSVG/ | - | 2023-04-19 15:01:56 | 
| nondetects/ | - | 2023-04-19 15:01:56 | 
| normalize450K/ | - | 2023-04-19 15:01:56 | 
| normr/ | - | 2023-04-19 15:01:56 | 
| npGSEA/ | - | 2023-04-19 15:01:56 | 
| nuCpos/ | - | 2023-04-19 15:01:56 | 
| nucleR/ | - | 2023-04-19 15:01:56 | 
| nucleoSim/ | - | 2023-04-19 15:01:56 | 
| nullranges/ | - | 2023-04-19 15:01:56 | 
| occugene/ | - | 2023-04-19 15:01:56 | 
| octad/ | - | 2023-04-19 15:01:56 | 
| odseq/ | - | 2023-04-19 15:01:56 | 
| oligo/ | - | 2023-04-19 15:01:56 | 
| oligoClasses/ | - | 2023-04-19 15:01:56 | 
| omada/ | - | 2023-04-19 15:01:56 | 
| omicRexposome/ | - | 2023-04-19 15:01:56 | 
| omicade4/ | - | 2023-04-19 15:01:56 | 
| omicplotR/ | - | 2023-04-19 15:01:56 | 
| omicsPrint/ | - | 2023-04-19 15:01:56 | 
| omicsViewer/ | - | 2023-04-19 15:01:56 | 
| ompBAM/ | - | 2023-04-19 15:01:56 | 
| oncomix/ | - | 2023-04-19 15:01:56 | 
| oncoscanR/ | - | 2023-04-19 15:01:56 | 
| oneSENSE/ | - | 2023-04-19 15:01:56 | 
| onlineFDR/ | - | 2023-04-19 15:01:56 | 
| ontoProc/ | - | 2023-04-19 15:01:56 | 
| openCyto/ | - | 2023-04-19 15:01:56 | 
| openPrimeR/ | - | 2023-04-19 15:01:56 | 
| openPrimeRui/ | - | 2023-04-19 15:01:56 | 
| oposSOM/ | - | 2023-04-19 15:01:56 | 
| oppar/ | - | 2023-04-19 15:01:56 | 
| oppti/ | - | 2023-04-19 15:01:56 | 
| optimalFlow/ | - | 2023-04-19 15:01:56 | 
| orthogene/ | - | 2023-04-19 15:01:56 | 
| pRoloc/ | - | 2023-04-19 15:01:57 | 
| pRolocGUI/ | - | 2023-04-19 15:01:57 | 
| packFinder/ | - | 2023-04-19 15:01:56 | 
| padma/ | - | 2023-04-19 15:01:56 | 
| pageRank/ | - | 2023-04-19 15:01:56 | 
| paircompviz/ | - | 2023-04-19 15:01:56 | 
| pairkat/ | - | 2023-04-19 15:01:56 | 
| pandaR/ | - | 2023-04-19 15:01:56 | 
| panelcn.mops/ | - | 2023-04-19 15:01:56 | 
| panp/ | - | 2023-04-19 15:01:56 | 
| pareg/ | - | 2023-04-19 15:01:56 | 
| parglms/ | - | 2023-04-19 15:01:56 | 
| parody/ | - | 2023-04-19 15:01:56 | 
| pathRender/ | - | 2023-04-19 15:01:56 | 
| pathVar/ | - | 2023-04-19 15:01:56 | 
| pathifier/ | - | 2023-04-19 15:01:56 | 
| pathview/ | - | 2023-04-19 15:01:56 | 
| pathwayPCA/ | - | 2023-04-19 15:01:56 | 
| paxtoolsr/ | - | 2023-04-19 15:01:57 | 
| pcaExplorer/ | - | 2023-04-19 15:01:57 | 
| pcaMethods/ | - | 2023-04-19 15:01:57 | 
| pcxn/ | - | 2023-04-19 15:01:57 | 
| pdInfoBuilder/ | - | 2023-04-19 15:01:57 | 
| peakPantheR/ | - | 2023-04-19 15:01:57 | 
| peco/ | - | 2023-04-19 15:01:57 | 
| pengls/ | - | 2023-04-19 15:01:57 | 
| pepStat/ | - | 2023-04-19 15:01:57 | 
| pepXMLTab/ | - | 2023-04-19 15:01:57 | 
| periodicDNA/ | - | 2023-04-19 15:01:57 | 
| pgca/ | - | 2023-04-19 15:01:57 | 
| phantasus/ | - | 2023-04-19 15:01:57 | 
| phemd/ | - | 2023-04-19 15:01:57 | 
| phenoTest/ | - | 2023-04-19 15:01:57 | 
| phenomis/ | - | 2023-04-19 15:01:57 | 
| phenopath/ | - | 2023-04-19 15:01:57 | 
| philr/ | - | 2023-04-19 15:01:57 | 
| phosphonormalizer/ | - | 2023-04-19 15:01:57 | 
| phyloseq/ | - | 2023-04-19 15:01:57 | 
| piano/ | - | 2023-04-19 15:01:57 | 
| pickgene/ | - | 2023-04-19 15:01:57 | 
| pipeComp/ | - | 2023-04-19 15:01:57 | 
| pipeFrame/ | - | 2023-04-19 15:01:57 | 
| pkgDepTools/ | - | 2023-04-19 15:01:57 | 
| planet/ | - | 2023-04-19 15:01:57 | 
| plethy/ | - | 2023-04-19 15:01:57 | 
| plgem/ | - | 2023-04-19 15:01:57 | 
| plier/ | - | 2023-04-19 15:01:57 | 
| plotGrouper/ | - | 2023-04-19 15:01:57 | 
| plotgardener/ | - | 2023-04-19 15:01:57 | 
| plyranges/ | - | 2023-04-19 15:01:57 | 
| pmm/ | - | 2023-04-19 15:01:57 | 
| pmp/ | - | 2023-04-19 15:01:57 | 
| podkat/ | - | 2023-04-19 15:01:57 | 
| pogos/ | - | 2023-04-19 15:01:57 | 
| polyester/ | - | 2023-04-19 15:01:57 | 
| powerTCR/ | - | 2023-04-19 15:01:57 | 
| ppcseq/ | - | 2023-04-19 15:01:57 | 
| pqsfinder/ | - | 2023-04-19 15:01:57 | 
| pram/ | - | 2023-04-19 15:01:57 | 
| prebs/ | - | 2023-04-19 15:01:57 | 
| preciseTAD/ | - | 2023-04-19 15:01:57 | 
| preprocessCore/ | - | 2023-04-19 15:01:57 | 
| primirTSS/ | - | 2023-04-19 15:01:57 | 
| proActiv/ | - | 2023-04-19 15:01:57 | 
| proBAMr/ | - | 2023-04-19 15:01:57 | 
| proBatch/ | - | 2023-04-19 15:01:57 | 
| proDA/ | - | 2023-04-19 15:01:57 | 
| proFIA/ | - | 2023-04-19 15:01:57 | 
| procoil/ | - | 2023-04-19 15:01:57 | 
| profileScoreDist/ | - | 2023-04-19 15:01:57 | 
| profileplyr/ | - | 2023-04-19 15:01:57 | 
| progeny/ | - | 2023-04-19 15:01:57 | 
| projectR/ | - | 2023-04-19 15:01:57 | 
| protGear/ | - | 2023-04-19 15:01:57 | 
| proteasy/ | - | 2023-04-19 15:01:57 | 
| proteinProfiles/ | - | 2023-04-19 15:01:57 | 
| psichomics/ | - | 2023-04-19 15:01:57 | 
| psygenet2r/ | - | 2023-04-19 15:01:57 | 
| ptairMS/ | - | 2023-04-19 15:01:57 | 
| pulsedSilac/ | - | 2023-04-19 15:01:57 | 
| puma/ | - | 2023-04-19 15:01:57 | 
| pvac/ | - | 2023-04-19 15:01:57 | 
| pvca/ | - | 2023-04-19 15:01:57 | 
| pwOmics/ | - | 2023-04-19 15:01:57 | 
| pwrEWAS/ | - | 2023-04-19 15:01:57 | 
| qPLEXanalyzer/ | - | 2023-04-19 15:01:57 | 
| qckitfastq/ | - | 2023-04-19 15:01:57 | 
| qcmetrics/ | - | 2023-04-19 15:01:57 | 
| qmtools/ | - | 2023-04-19 15:01:57 | 
| qpcrNorm/ | - | 2023-04-19 15:01:57 | 
| qpgraph/ | - | 2023-04-19 15:01:57 | 
| qrqc/ | - | 2023-04-19 15:01:57 | 
| qsea/ | - | 2023-04-19 15:01:57 | 
| qsmooth/ | - | 2023-04-19 15:01:57 | 
| qsvaR/ | - | 2023-04-19 15:01:57 | 
| quantiseqr/ | - | 2023-04-19 15:01:57 | 
| quantro/ | - | 2023-04-19 15:01:57 | 
| quantsmooth/ | - | 2023-04-19 15:01:57 | 
| qusage/ | - | 2023-04-19 15:01:57 | 
| qvalue/ | - | 2023-04-19 15:01:57 | 
| r3Cseq/ | - | 2023-04-19 15:01:57 | 
| rBiopaxParser/ | - | 2023-04-19 15:01:57 | 
| rCGH/ | - | 2023-04-19 15:01:57 | 
| rDGIdb/ | - | 2023-04-19 15:01:57 | 
| rGADEM/ | - | 2023-04-19 15:01:57 | 
| rGREAT/ | - | 2023-04-19 15:01:57 | 
| rGenomeTracks/ | - | 2023-04-19 15:01:57 | 
| rRDP/ | - | 2023-04-19 15:01:57 | 
| rSWeeP/ | - | 2023-04-19 15:01:57 | 
| rScudo/ | - | 2023-04-19 15:01:57 | 
| rTRM/ | - | 2023-04-19 15:01:58 | 
| rTRMui/ | - | 2023-04-19 15:01:58 | 
| rWikiPathways/ | - | 2023-04-19 15:01:58 | 
| rain/ | - | 2023-04-19 15:01:57 | 
| rama/ | - | 2023-04-19 15:01:57 | 
| ramr/ | - | 2023-04-19 15:01:57 | 
| ramwas/ | - | 2023-04-19 15:01:57 | 
| randPack/ | - | 2023-04-19 15:01:57 | 
| randRotation/ | - | 2023-04-19 15:01:57 | 
| rawrr/ | - | 2023-04-19 15:01:57 | 
| rbsurv/ | - | 2023-04-19 15:01:57 | 
| rcellminer/ | - | 2023-04-19 15:01:57 | 
| rebook/ | - | 2023-04-19 15:01:57 | 
| receptLoss/ | - | 2023-04-19 15:01:57 | 
| reconsi/ | - | 2023-04-19 15:01:57 | 
| recount/ | - | 2023-04-19 15:01:57 | 
| recount3/ | - | 2023-04-19 15:01:57 | 
| recountmethylation/ | - | 2023-04-19 15:01:57 | 
| recoup/ | - | 2023-04-19 15:01:57 | 
| regionReport/ | - | 2023-04-19 15:01:57 | 
| regioneR/ | - | 2023-04-19 15:01:57 | 
| regioneReloaded/ | - | 2023-04-19 15:01:57 | 
| regsplice/ | - | 2023-04-19 15:01:57 | 
| regutools/ | - | 2023-04-19 15:01:57 | 
| restfulSE/ | - | 2023-04-19 15:01:57 | 
| rexposome/ | - | 2023-04-19 15:01:57 | 
| rfPred/ | - | 2023-04-19 15:01:57 | 
| rfaRm/ | - | 2023-04-19 15:01:57 | 
| rgoslin/ | - | 2023-04-19 15:01:57 | 
| rgsepd/ | - | 2023-04-19 15:01:57 | 
| rhdf5/ | - | 2023-04-19 15:01:57 | 
| rhdf5client/ | - | 2023-04-19 15:01:57 | 
| rhdf5filters/ | - | 2023-04-19 15:01:57 | 
| riboSeqR/ | - | 2023-04-19 15:01:57 | 
| ribor/ | - | 2023-04-19 15:01:57 | 
| ribosomeProfilingQC/ | - | 2023-04-19 15:01:57 | 
| rifi/ | - | 2023-04-19 15:01:57 | 
| rmelting/ | - | 2023-04-19 15:01:57 | 
| rmspc/ | - | 2023-04-19 15:01:57 | 
| rnaEditr/ | - | 2023-04-19 15:01:57 | 
| rnaseqcomp/ | - | 2023-04-19 15:01:57 | 
| roar/ | - | 2023-04-19 15:01:57 | 
| rols/ | - | 2023-04-19 15:01:57 | 
| ropls/ | - | 2023-04-19 15:01:57 | 
| rprimer/ | - | 2023-04-19 15:01:57 | 
| rpx/ | - | 2023-04-19 15:01:57 | 
| rqt/ | - | 2023-04-19 15:01:57 | 
| rqubic/ | - | 2023-04-19 15:01:57 | 
| rrvgo/ | - | 2023-04-19 15:01:57 | 
| rsbml/ | - | 2023-04-19 15:01:51 | 
| rsemmed/ | - | 2023-04-19 15:01:57 | 
| rtracklayer/ | - | 2023-04-19 15:01:58 | 
| runibic/ | - | 2023-04-19 15:01:51 | 
| sRACIPE/ | - | 2023-04-19 15:01:58 | 
| sSNAPPY/ | - | 2023-04-19 15:01:58 | 
| sSeq/ | - | 2023-04-19 15:01:58 | 
| safe/ | - | 2023-04-19 15:01:58 | 
| sagenhaft/ | - | 2023-04-19 15:01:58 | 
| sampleClassifier/ | - | 2023-04-19 15:01:58 | 
| sangeranalyseR/ | - | 2023-04-19 15:01:58 | 
| sangerseqR/ | - | 2023-04-19 15:01:58 | 
| sarks/ | - | 2023-04-19 15:01:58 | 
| satuRn/ | - | 2023-04-19 15:01:58 | 
| savR/ | - | 2023-04-19 15:01:58 | 
| scAlign/ | - | 2023-04-19 15:01:58 | 
| scAnnotatR/ | - | 2023-04-19 15:01:58 | 
| scBFA/ | - | 2023-04-19 15:01:58 | 
| scBubbletree/ | - | 2023-04-19 15:01:58 | 
| scCB2/ | - | 2023-04-19 15:01:58 | 
| scClassify/ | - | 2023-04-19 15:01:58 | 
| scDD/ | - | 2023-04-19 15:01:58 | 
| scDDboost/ | - | 2023-04-19 15:01:58 | 
| scDataviz/ | - | 2023-04-19 15:01:58 | 
| scDblFinder/ | - | 2023-04-19 15:01:58 | 
| scFeatureFilter/ | - | 2023-04-19 15:01:58 | 
| scGPS/ | - | 2023-04-19 15:01:58 | 
| scHOT/ | - | 2023-04-19 15:01:58 | 
| scMAGeCK/ | - | 2023-04-19 15:01:58 | 
| scMET/ | - | 2023-04-19 15:01:58 | 
| scMerge/ | - | 2023-04-19 15:01:58 | 
| scPCA/ | - | 2023-04-19 15:01:58 | 
| scPipe/ | - | 2023-04-19 15:01:58 | 
| scReClassify/ | - | 2023-04-19 15:01:58 | 
| scRecover/ | - | 2023-04-19 15:01:58 | 
| scRepertoire/ | - | 2023-04-19 15:01:58 | 
| scShapes/ | - | 2023-04-19 15:01:58 | 
| scTGIF/ | - | 2023-04-19 15:01:58 | 
| scTHI/ | - | 2023-04-19 15:01:58 | 
| scTensor/ | - | 2023-04-19 15:01:58 | 
| scTreeViz/ | - | 2023-04-19 15:01:58 | 
| scanMiR/ | - | 2023-04-19 15:01:58 | 
| scanMiRApp/ | - | 2023-04-19 15:01:58 | 
| scater/ | - | 2023-04-19 15:01:58 | 
| scatterHatch/ | - | 2023-04-19 15:01:58 | 
| sccomp/ | - | 2023-04-19 15:01:58 | 
| scde/ | - | 2023-04-19 15:01:58 | 
| scds/ | - | 2023-04-19 15:01:58 | 
| schex/ | - | 2023-04-19 15:01:58 | 
| scifer/ | - | 2023-04-19 15:01:58 | 
| scmap/ | - | 2023-04-19 15:01:58 | 
| scmeth/ | - | 2023-04-19 15:01:58 | 
| scone/ | - | 2023-04-19 15:01:58 | 
| scoreInvHap/ | - | 2023-04-19 15:01:58 | 
| scp/ | - | 2023-04-19 15:01:58 | 
| scran/ | - | 2023-04-19 15:01:58 | 
| scruff/ | - | 2023-04-19 15:01:58 | 
| scry/ | - | 2023-04-19 15:01:58 | 
| scuttle/ | - | 2023-04-19 15:01:58 | 
| sechm/ | - | 2023-04-19 15:01:58 | 
| segmentSeq/ | - | 2023-04-19 15:01:58 | 
| segmenter/ | - | 2023-04-19 15:01:58 | 
| selectKSigs/ | - | 2023-04-19 15:01:58 | 
| semisup/ | - | 2023-04-19 15:01:58 | 
| seq2pathway/ | - | 2023-04-19 15:01:58 | 
| seqArchR/ | - | 2023-04-19 15:01:58 | 
| seqCAT/ | - | 2023-04-19 15:01:58 | 
| seqCNA/ | - | 2023-04-19 15:01:58 | 
| seqLogo/ | - | 2023-04-19 15:01:58 | 
| seqPattern/ | - | 2023-04-19 15:01:58 | 
| seqTools/ | - | 2023-04-19 15:01:58 | 
| seqbias/ | - | 2023-04-19 15:01:58 | 
| seqcombo/ | - | 2023-04-19 15:01:58 | 
| seqsetvis/ | - | 2023-04-19 15:01:58 | 
| sesame/ | - | 2023-04-19 15:01:58 | 
| sevenC/ | - | 2023-04-19 15:01:58 | 
| sevenbridges/ | - | 2023-04-19 15:01:58 | 
| shinyMethyl/ | - | 2023-04-19 15:01:58 | 
| shinyepico/ | - | 2023-04-19 15:01:58 | 
| sigFeature/ | - | 2023-04-19 15:01:58 | 
| sigPathway/ | - | 2023-04-19 15:01:58 | 
| siggenes/ | - | 2023-04-19 15:01:58 | 
| sights/ | - | 2023-04-19 15:01:58 | 
| signatureSearch/ | - | 2023-04-19 15:01:58 | 
| signeR/ | - | 2023-04-19 15:01:58 | 
| signifinder/ | - | 2023-04-19 15:01:58 | 
| sigsquared/ | - | 2023-04-19 15:01:58 | 
| similaRpeak/ | - | 2023-04-19 15:01:58 | 
| simpleSeg/ | - | 2023-04-19 15:01:58 | 
| simplifyEnrichment/ | - | 2023-04-19 15:01:58 | 
| sincell/ | - | 2023-04-19 15:01:58 | 
| single/ | - | 2023-04-19 15:01:58 | 
| singleCellTK/ | - | 2023-04-19 15:01:58 | 
| singscore/ | - | 2023-04-19 15:01:58 | 
| sitadela/ | - | 2023-04-19 15:01:58 | 
| sitePath/ | - | 2023-04-19 15:01:58 | 
| sizepower/ | - | 2023-04-19 15:01:58 | 
| skewr/ | - | 2023-04-19 15:01:58 | 
| slalom/ | - | 2023-04-19 15:01:58 | 
| slingshot/ | - | 2023-04-19 15:01:58 | 
| snapCGH/ | - | 2023-04-19 15:01:58 | 
| snapcount/ | - | 2023-04-19 15:01:58 | 
| snifter/ | - | 2023-04-19 15:01:58 | 
| snm/ | - | 2023-04-19 15:01:58 | 
| snpStats/ | - | 2023-04-19 15:01:58 | 
| soGGi/ | - | 2023-04-19 15:01:58 | 
| sojourner/ | - | 2023-04-19 15:01:58 | 
| spaSim/ | - | 2023-04-19 15:01:58 | 
| sparrow/ | - | 2023-04-19 15:01:58 | 
| sparseDOSSA/ | - | 2023-04-19 15:01:58 | 
| sparseMatrixStats/ | - | 2023-04-19 15:01:58 | 
| sparsenetgls/ | - | 2023-04-19 15:01:58 | 
| spatialDE/ | - | 2023-04-19 15:01:58 | 
| spatialHeatmap/ | - | 2023-04-19 15:01:58 | 
| spatzie/ | - | 2023-04-19 15:01:58 | 
| specL/ | - | 2023-04-19 15:01:58 | 
| spicyR/ | - | 2023-04-19 15:01:58 | 
| spikeLI/ | - | 2023-04-19 15:01:58 | 
| spiky/ | - | 2023-04-19 15:01:58 | 
| spkTools/ | - | 2023-04-19 15:01:58 | 
| splatter/ | - | 2023-04-19 15:01:58 | 
| splineTimeR/ | - | 2023-04-19 15:01:58 | 
| splots/ | - | 2023-04-19 15:01:58 | 
| spqn/ | - | 2023-04-19 15:01:58 | 
| srnadiff/ | - | 2023-04-19 15:01:58 | 
| ssPATHS/ | - | 2023-04-19 15:01:58 | 
| sscore/ | - | 2023-04-19 15:01:58 | 
| sscu/ | - | 2023-04-19 15:01:58 | 
| ssize/ | - | 2023-04-19 15:01:58 | 
| ssrch/ | - | 2023-04-19 15:01:58 | 
| ssviz/ | - | 2023-04-19 15:01:58 | 
| stJoincount/ | - | 2023-04-19 15:01:58 | 
| staRank/ | - | 2023-04-19 15:01:58 | 
| stageR/ | - | 2023-04-19 15:01:58 | 
| standR/ | - | 2023-04-19 15:01:58 | 
| statTarget/ | - | 2023-04-19 15:01:58 | 
| stepNorm/ | - | 2023-04-19 15:01:58 | 
| strandCheckR/ | - | 2023-04-19 15:01:58 | 
| struct/ | - | 2023-04-19 15:01:58 | 
| structToolbox/ | - | 2023-04-19 15:01:58 | 
| subSeq/ | - | 2023-04-19 15:01:58 | 
| supersigs/ | - | 2023-04-19 15:01:58 | 
| supraHex/ | - | 2023-04-19 15:01:58 | 
| surfaltr/ | - | 2023-04-19 15:01:58 | 
| survcomp/ | - | 2023-04-19 15:01:58 | 
| survtype/ | - | 2023-04-19 15:01:58 | 
| sva/ | - | 2023-04-19 15:01:58 | 
| svaNUMT/ | - | 2023-04-19 15:01:58 | 
| svaRetro/ | - | 2023-04-19 15:01:58 | 
| swfdr/ | - | 2023-04-19 15:01:58 | 
| switchBox/ | - | 2023-04-19 15:01:58 | 
| switchde/ | - | 2023-04-19 15:01:58 | 
| synapsis/ | - | 2023-04-19 15:01:58 | 
| synapter/ | - | 2023-04-19 15:01:58 | 
| synergyfinder/ | - | 2023-04-19 15:01:58 | 
| synlet/ | - | 2023-04-19 15:01:58 | 
| syntenet/ | - | 2023-04-19 15:01:58 | 
| systemPipeR/ | - | 2023-04-19 15:01:58 | 
| systemPipeShiny/ | - | 2023-04-19 15:01:58 | 
| systemPipeTools/ | - | 2023-04-19 15:01:58 | 
| tLOH/ | - | 2023-04-19 15:01:59 | 
| tRNA/ | - | 2023-04-19 15:01:59 | 
| tRNAdbImport/ | - | 2023-04-19 15:01:59 | 
| tRNAscanImport/ | - | 2023-04-19 15:01:59 | 
| tRanslatome/ | - | 2023-04-19 15:01:59 | 
| tanggle/ | - | 2023-04-19 15:01:58 | 
| target/ | - | 2023-04-19 15:01:58 | 
| tenXplore/ | - | 2023-04-19 15:01:59 | 
| ternarynet/ | - | 2023-04-19 15:01:59 | 
| terraTCGAdata/ | - | 2023-04-19 15:01:59 | 
| tidySingleCellExperiment/ | - | 2023-04-19 15:01:59 | 
| tidySummarizedExperiment/ | - | 2023-04-19 15:01:59 | 
| tidybulk/ | - | 2023-04-19 15:01:59 | 
| tigre/ | - | 2023-04-19 15:01:59 | 
| tilingArray/ | - | 2023-04-19 15:01:59 | 
| timeOmics/ | - | 2023-04-19 15:01:59 | 
| timecourse/ | - | 2023-04-19 15:01:59 | 
| timescape/ | - | 2023-04-19 15:01:59 | 
| tkWidgets/ | - | 2023-04-19 15:01:59 | 
| tomoda/ | - | 2023-04-19 15:01:59 | 
| tomoseqr/ | - | 2023-04-19 15:01:59 | 
| topGO/ | - | 2023-04-19 15:01:59 | 
| topconfects/ | - | 2023-04-19 15:01:59 | 
| topdownr/ | - | 2023-04-19 15:01:59 | 
| trackViewer/ | - | 2023-04-19 15:01:59 | 
| tracktables/ | - | 2023-04-19 15:01:59 | 
| tradeSeq/ | - | 2023-04-19 15:01:59 | 
| transcriptR/ | - | 2023-04-19 15:01:59 | 
| transcriptogramer/ | - | 2023-04-19 15:01:59 | 
| transformGamPoi/ | - | 2023-04-19 15:01:59 | 
| transite/ | - | 2023-04-19 15:01:59 | 
| transomics2cytoscape/ | - | 2023-04-19 15:01:59 | 
| traseR/ | - | 2023-04-19 15:01:59 | 
| traviz/ | - | 2023-04-19 15:01:59 | 
| treeio/ | - | 2023-04-19 15:01:59 | 
| treekoR/ | - | 2023-04-19 15:01:59 | 
| trena/ | - | 2023-04-19 15:01:59 | 
| tricycle/ | - | 2023-04-19 15:01:59 | 
| trigger/ | - | 2023-04-19 15:01:59 | 
| trio/ | - | 2023-04-19 15:01:59 | 
| triplex/ | - | 2023-04-19 15:01:59 | 
| tripr/ | - | 2023-04-19 15:01:59 | 
| tscR/ | - | 2023-04-19 15:01:59 | 
| tspair/ | - | 2023-04-19 15:01:59 | 
| ttgsea/ | - | 2023-04-19 15:01:59 | 
| tweeDEseq/ | - | 2023-04-19 15:01:59 | 
| twilight/ | - | 2023-04-19 15:01:59 | 
| twoddpcr/ | - | 2023-04-19 15:01:59 | 
| txcutr/ | - | 2023-04-19 15:01:59 | 
| tximeta/ | - | 2023-04-19 15:01:59 | 
| tximport/ | - | 2023-04-19 15:01:59 | 
| uSORT/ | - | 2023-04-19 15:01:59 | 
| uncoverappLib/ | - | 2023-04-19 15:01:59 | 
| unifiedWMWqPCR/ | - | 2023-04-19 15:01:59 | 
| universalmotif/ | - | 2023-04-19 15:01:59 | 
| updateObject/ | - | 2023-04-19 15:01:59 | 
| variancePartition/ | - | 2023-04-19 15:01:59 | 
| vbmp/ | - | 2023-04-19 15:01:59 | 
| velociraptor/ | - | 2023-04-19 15:01:59 | 
| veloviz/ | - | 2023-04-19 15:01:59 | 
| vidger/ | - | 2023-04-19 15:01:59 | 
| viper/ | - | 2023-04-19 15:01:59 | 
| vissE/ | - | 2023-04-19 15:01:59 | 
| vsclust/ | - | 2023-04-19 15:01:59 | 
| vsn/ | - | 2023-04-19 15:01:59 | 
| vtpnet/ | - | 2023-04-19 15:01:59 | 
| vulcan/ | - | 2023-04-19 15:01:59 | 
| waddR/ | - | 2023-04-19 15:01:59 | 
| wateRmelon/ | - | 2023-04-19 15:01:59 | 
| wavClusteR/ | - | 2023-04-19 15:01:59 | 
| weaver/ | - | 2023-04-19 15:01:59 | 
| webbioc/ | - | 2023-04-19 15:01:59 | 
| weitrix/ | - | 2023-04-19 15:01:59 | 
| widgetTools/ | - | 2023-04-19 15:01:59 | 
| wiggleplotr/ | - | 2023-04-19 15:01:59 | 
| wpm/ | - | 2023-04-19 15:01:59 | 
| wppi/ | - | 2023-04-19 15:01:59 | 
| xcms/ | - | 2023-04-19 15:01:59 | 
| xcore/ | - | 2023-04-19 15:01:59 | 
| xmapbridge/ | - | 2023-04-19 15:01:59 | 
| yamss/ | - | 2023-04-19 15:01:59 | 
| yarn/ | - | 2023-04-19 15:01:59 | 
| zFPKM/ | - | 2023-04-19 15:01:59 | 
| zellkonverter/ | - | 2023-04-19 15:01:59 | 
| zenith/ | - | 2023-04-19 15:01:59 | 
| zinbwave/ | - | 2023-04-19 15:01:59 | 
| zlibbioc/ | - | 2023-04-19 15:01:59 | 
| 120px-Blue_Light_Icon.svg.png | 7.1 KiB | 2023-04-19 15:01:46 | 
| 120px-Green_Light_Icon.svg.png | 7.1 KiB | 2023-04-19 15:01:46 | 
| 120px-Red_Light_Icon.svg.png | 7.0 KiB | 2023-04-19 15:01:46 | 
| BUILD_STATUS_DB.txt | 197.9 KiB | 2023-04-19 15:01:45 | 
| DEVEL3b.png | 2.6 KiB | 2023-04-19 15:01:46 | 
| PROPAGATION_STATUS_DB.txt | 179.8 KiB | 2023-04-19 15:01:45 | 
| Renviron.bioc | 2.2 KiB | 2023-04-19 15:01:46 | 
| index.html | 2.7 MiB | 2023-04-19 15:02:00 | 
| kjohnson-NodeInfo.html | 5.8 KiB | 2023-04-19 15:01:46 | 
| kjohnson-R-instpkgs.html | 566.2 KiB | 2023-04-19 15:01:46 | 
| meat-index.dcf | 225.9 KiB | 2023-04-19 15:01:45 | 
| pkg_dep_graph.txt | 341.7 KiB | 2023-04-19 15:01:46 | 
| report.css | 10.0 KiB | 2023-04-19 15:01:46 | 
| report.js | 6.0 KiB | 2023-04-19 15:01:46 | 
| report.tgz | 7.3 MiB | 2023-04-19 15:02:01 | 
| skipped-index.dcf | 0 B | 2023-04-19 15:01:45 |