Package: xcms Version: 3.20.0 Command: /Library/Frameworks/R.framework/Resources/bin/R CMD build --keep-empty-dirs --no-resave-data --no-build-vignettes --no-manual xcms StartedAt: 2023-04-15 08:01:07 -0400 (Sat, 15 Apr 2023) EndedAt: 2023-04-15 08:01:29 -0400 (Sat, 15 Apr 2023) EllapsedTime: 21.8 seconds RetCode: 0 Status: OK PackageFile: xcms_3.20.0.tar.gz PackageFileSize: 869.1 KiB