Package: rhdf5 Version: 2.42.1 Command: F:\biocbuild\bbs-3.16-bioc\R\bin\R.exe CMD check --no-multiarch --test-dir=longtests --no-stop-on-test-error --no-codoc --no-examples --no-manual --ignore-vignettes --check-subdirs=no rhdf5_2.42.1.tar.gz StartedAt: 2023-04-15 08:34:06 -0400 (Sat, 15 Apr 2023) EndedAt: 2023-04-15 08:36:19 -0400 (Sat, 15 Apr 2023) EllapsedTime: 133.1 seconds RetCode: 0 Status: OK CheckDir: rhdf5.Rcheck Warnings: 0