Package: extraChIPs Version: 1.2.4 Command: chmod a+r extraChIPs -R && F:\biocbuild\bbs-3.16-bioc\R\bin\R.exe CMD build --keep-empty-dirs --no-resave-data --no-build-vignettes --no-manual extraChIPs StartedAt: 2023-04-15 08:03:23 -0400 (Sat, 15 Apr 2023) EndedAt: 2023-04-15 08:03:59 -0400 (Sat, 15 Apr 2023) EllapsedTime: 35.4 seconds RetCode: 0 Status: OK PackageFile: extraChIPs_1.2.4.tar.gz PackageFileSize: 556.6 KiB