Package: cBioPortalData Version: 2.10.3 Command: /home/biocbuild/bbs-3.16-bioc/R/bin/R CMD build --keep-empty-dirs --no-resave-data --no-build-vignettes --no-manual cBioPortalData StartedAt: 2023-04-15 08:00:14 -0400 (Sat, 15 Apr 2023) EndedAt: 2023-04-15 08:00:15 -0400 (Sat, 15 Apr 2023) EllapsedTime: 0.9 seconds RetCode: 0 Status: OK PackageFile: cBioPortalData_2.10.3.tar.gz PackageFileSize: 66.6 KiB