Package: biodbNcbi Version: 1.2.0 Command: /Library/Frameworks/R.framework/Resources/bin/R CMD check --test-dir=longtests --no-stop-on-test-error --no-codoc --no-examples --no-manual --ignore-vignettes --check-subdirs=no biodbNcbi_1.2.0.tar.gz StartedAt: 2023-04-15 08:01:34 -0400 (Sat, 15 Apr 2023) EndedAt: 2023-04-15 08:03:41 -0400 (Sat, 15 Apr 2023) EllapsedTime: 126.9 seconds RetCode: 0 Status: WARNINGS CheckDir: biodbNcbi.Rcheck Warnings: 1