Package: biodbLipidmaps Version: 1.4.1 Command: F:\biocbuild\bbs-3.16-bioc\R\bin\R.exe CMD check --no-multiarch --test-dir=longtests --no-stop-on-test-error --no-codoc --no-examples --no-manual --ignore-vignettes --check-subdirs=no biodbLipidmaps_1.4.1.tar.gz StartedAt: 2023-04-15 08:05:42 -0400 (Sat, 15 Apr 2023) EndedAt: 2023-04-15 08:15:12 -0400 (Sat, 15 Apr 2023) EllapsedTime: 569.7 seconds RetCode: 0 Status: OK CheckDir: biodbLipidmaps.Rcheck Warnings: 0