Package: biodbKegg Version: 1.4.0 Command: chmod a+r biodbKegg -R && F:\biocbuild\bbs-3.16-bioc\R\bin\R.exe CMD build --keep-empty-dirs --no-resave-data --no-build-vignettes --no-manual biodbKegg StartedAt: 2023-04-15 08:02:17 -0400 (Sat, 15 Apr 2023) EndedAt: 2023-04-15 08:02:33 -0400 (Sat, 15 Apr 2023) EllapsedTime: 16.8 seconds RetCode: 0 Status: OK PackageFile: biodbKegg_1.4.0.tar.gz PackageFileSize: 152 KiB