Package: beachmat Version: 2.14.2 Command: /home/biocbuild/bbs-3.16-bioc/R/bin/R CMD check --test-dir=longtests --no-stop-on-test-error --no-codoc --no-examples --no-manual --ignore-vignettes --check-subdirs=no beachmat_2.14.2.tar.gz StartedAt: 2023-04-15 08:00:26 -0400 (Sat, 15 Apr 2023) EndedAt: 2023-04-15 08:12:32 -0400 (Sat, 15 Apr 2023) EllapsedTime: 726.4 seconds RetCode: 1 Status: ERROR CheckDir: beachmat.Rcheck Warnings: NA