Package: beachmat Version: 2.14.2 Command: /home/biocbuild/bbs-3.16-bioc/R/bin/R CMD build --keep-empty-dirs --no-resave-data --no-build-vignettes --no-manual beachmat StartedAt: 2023-04-15 08:00:10 -0400 (Sat, 15 Apr 2023) EndedAt: 2023-04-15 08:00:11 -0400 (Sat, 15 Apr 2023) EllapsedTime: 1.6 seconds RetCode: 0 Status: OK PackageFile: beachmat_2.14.2.tar.gz PackageFileSize: 156.1 KiB