Package: autonomics Version: 1.6.0 Command: F:\biocbuild\bbs-3.16-bioc\R\bin\R.exe CMD check --no-multiarch --test-dir=longtests --no-stop-on-test-error --no-codoc --no-examples --no-manual --ignore-vignettes --check-subdirs=no autonomics_1.6.0.tar.gz StartedAt: 2023-04-15 08:04:43 -0400 (Sat, 15 Apr 2023) EndedAt: 2023-04-15 08:07:15 -0400 (Sat, 15 Apr 2023) EllapsedTime: 151.8 seconds RetCode: 1 Status: ERROR CheckDir: autonomics.Rcheck Warnings: NA