Package: autonomics Version: 1.6.0 Command: chmod a+r autonomics -R && F:\biocbuild\bbs-3.16-bioc\R\bin\R.exe CMD build --keep-empty-dirs --no-resave-data --no-build-vignettes --no-manual autonomics StartedAt: 2023-04-15 08:02:16 -0400 (Sat, 15 Apr 2023) EndedAt: 2023-04-15 08:02:44 -0400 (Sat, 15 Apr 2023) EllapsedTime: 27.1 seconds RetCode: 0 Status: OK PackageFile: autonomics_1.6.0.tar.gz PackageFileSize: 102.6 KiB