Package: GenomicFeatures Version: 1.50.4 Command: F:\biocbuild\bbs-3.16-bioc\R\bin\R.exe CMD check --no-multiarch --test-dir=longtests --no-stop-on-test-error --no-codoc --no-examples --no-manual --ignore-vignettes --check-subdirs=no GenomicFeatures_1.50.4.tar.gz StartedAt: 2023-04-15 08:27:55 -0400 (Sat, 15 Apr 2023) EndedAt: 2023-04-15 08:31:33 -0400 (Sat, 15 Apr 2023) EllapsedTime: 217.8 seconds RetCode: 0 Status: WARNINGS CheckDir: GenomicFeatures.Rcheck Warnings: 1