Package: GenomicFeatures Version: 1.50.4 Command: chmod a+r GenomicFeatures -R && F:\biocbuild\bbs-3.16-bioc\R\bin\R.exe CMD build --keep-empty-dirs --no-resave-data --no-build-vignettes --no-manual GenomicFeatures StartedAt: 2023-04-15 08:03:28 -0400 (Sat, 15 Apr 2023) EndedAt: 2023-04-15 08:04:04 -0400 (Sat, 15 Apr 2023) EllapsedTime: 36.0 seconds RetCode: 0 Status: OK PackageFile: GenomicFeatures_1.50.4.tar.gz PackageFileSize: 1.107 MiB