Package: GenomicFeatures Version: 1.50.4 Command: /Library/Frameworks/R.framework/Resources/bin/R CMD check --test-dir=longtests --no-stop-on-test-error --no-codoc --no-examples --no-manual --ignore-vignettes --check-subdirs=no GenomicFeatures_1.50.4.tar.gz StartedAt: 2023-04-15 08:06:27 -0400 (Sat, 15 Apr 2023) EndedAt: 2023-04-15 08:09:12 -0400 (Sat, 15 Apr 2023) EllapsedTime: 164.7 seconds RetCode: 0 Status: WARNINGS CheckDir: GenomicFeatures.Rcheck Warnings: 1