Package: GenomicFeatures Version: 1.50.4 Command: /Library/Frameworks/R.framework/Resources/bin/R CMD build --keep-empty-dirs --no-resave-data --no-build-vignettes --no-manual GenomicFeatures StartedAt: 2023-04-15 08:00:57 -0400 (Sat, 15 Apr 2023) EndedAt: 2023-04-15 08:01:19 -0400 (Sat, 15 Apr 2023) EllapsedTime: 21.9 seconds RetCode: 0 Status: OK PackageFile: GenomicFeatures_1.50.4.tar.gz PackageFileSize: 1.108 MiB