| Back to Long Tests report for BioC 3.16 |
This page was generated on 2023-04-15 21:30:02 -0400 (Sat, 15 Apr 2023).
| Hostname | OS | Arch (*) | R version | Installed pkgs |
|---|---|---|---|---|
| nebbiolo2 | Linux (Ubuntu 20.04.5 LTS) | x86_64 | 4.2.3 (2023-03-15) -- "Shortstop Beagle" | 4502 |
| palomino4 | Windows Server 2022 Datacenter | x64 | 4.2.3 (2023-03-15 ucrt) -- "Shortstop Beagle" | 4282 |
| lconway | macOS 12.5.1 Monterey | x86_64 | 4.2.3 (2023-03-15) -- "Shortstop Beagle" | 4310 |
| Click on any hostname to see more info about the system (e.g. compilers) (*) as reported by 'uname -p', except on Windows and Mac OS X | ||||
|
To the developers/maintainers of the GenomicFeatures package: Make sure to use the following settings in order to reproduce any error or warning you see on this page. |
| Package 22/28 | Hostname | OS / Arch | CHECK | |||||||
| GenomicFeatures 1.50.4 (landing page) H. Pagès
| nebbiolo2 | Linux (Ubuntu 20.04.5 LTS) / x86_64 | WARNINGS | |||||||
| palomino4 | Windows Server 2022 Datacenter / x64 | WARNINGS | ||||||||
| lconway | macOS 12.5.1 Monterey / x86_64 | WARNINGS | ||||||||