Package: EpiMix Version: 1.0.2 Command: /home/biocbuild/bbs-3.16-bioc/R/bin/R CMD check --test-dir=longtests --no-stop-on-test-error --no-codoc --no-examples --no-manual --ignore-vignettes --check-subdirs=no EpiMix_1.0.2.tar.gz StartedAt: 2023-04-15 08:22:24 -0400 (Sat, 15 Apr 2023) EndedAt: 2023-04-15 08:25:08 -0400 (Sat, 15 Apr 2023) EllapsedTime: 164.5 seconds RetCode: 0 Status: WARNINGS CheckDir: EpiMix.Rcheck Warnings: 2