Package: EpiMix Version: 1.0.2 Command: /home/biocbuild/bbs-3.16-bioc/R/bin/R CMD build --keep-empty-dirs --no-resave-data --no-build-vignettes --no-manual EpiMix StartedAt: 2023-04-15 08:00:16 -0400 (Sat, 15 Apr 2023) EndedAt: 2023-04-15 08:00:17 -0400 (Sat, 15 Apr 2023) EllapsedTime: 1.6 seconds RetCode: 0 Status: OK PackageFile: EpiMix_1.0.2.tar.gz PackageFileSize: 829.4 KiB