Package: ChromSCape Version: 1.8.0 Command: chmod a+r ChromSCape -R && F:\biocbuild\bbs-3.16-bioc\R\bin\R.exe CMD build --keep-empty-dirs --no-resave-data --no-build-vignettes --no-manual ChromSCape StartedAt: 2023-04-15 08:02:53 -0400 (Sat, 15 Apr 2023) EndedAt: 2023-04-15 08:03:28 -0400 (Sat, 15 Apr 2023) EllapsedTime: 34.8 seconds RetCode: 0 Status: OK PackageFile: ChromSCape_1.8.0.tar.gz PackageFileSize: 3.448 MiB