Package: zlibbioc Version: 1.44.0 Command: rm -rf zlibbioc.buildbin-libdir && mkdir zlibbioc.buildbin-libdir && /Users/biocbuild/BBS/utils/build-universal.sh zlibbioc_1.44.0.tar.gz /Library/Frameworks/R.framework/Resources/bin/R zlibbioc.buildbin-libdir StartedAt: 2023-04-11 00:10:54 -0400 (Tue, 11 Apr 2023) EndedAt: 2023-04-11 00:10:59 -0400 (Tue, 11 Apr 2023) EllapsedTime: 5.0 seconds RetCode: 0 Status: OK PackageFile: zlibbioc_1.44.0.tgz PackageFileSize: 63.71 KiB