Package: xcore Version: 1.2.0 Command: rm -rf xcore.buildbin-libdir && mkdir xcore.buildbin-libdir && /Users/biocbuild/BBS/utils/build-universal.sh xcore_1.2.0.tar.gz /Library/Frameworks/R.framework/Resources/bin/R xcore.buildbin-libdir StartedAt: 2023-04-11 00:10:42 -0400 (Tue, 11 Apr 2023) EndedAt: 2023-04-11 00:11:07 -0400 (Tue, 11 Apr 2023) EllapsedTime: 25.5 seconds RetCode: 0 Status: OK PackageFile: xcore_1.2.0.tgz PackageFileSize: 1.886 MiB