Package: weitrix Version: 1.10.0 Command: chmod a+r weitrix -R && F:\biocbuild\bbs-3.16-bioc\R\bin\R.exe CMD build --keep-empty-dirs --no-resave-data weitrix StartedAt: 2023-04-10 22:21:13 -0400 (Mon, 10 Apr 2023) EndedAt: 2023-04-10 22:30:47 -0400 (Mon, 10 Apr 2023) EllapsedTime: 573.9 seconds RetCode: 0 Status: OK PackageFile: weitrix_1.10.0.tar.gz PackageFileSize: 5.317 MiB