Package: webbioc Version: 1.70.0 Command: /home/biocbuild/bbs-3.16-bioc/R/bin/R CMD check --install=check:webbioc.install-out.txt --library=/home/biocbuild/bbs-3.16-bioc/R/site-library --timings webbioc_1.70.0.tar.gz StartedAt: 2023-04-11 00:50:47 -0400 (Tue, 11 Apr 2023) EndedAt: 2023-04-11 00:52:51 -0400 (Tue, 11 Apr 2023) EllapsedTime: 123.7 seconds RetCode: 0 Status: OK CheckDir: webbioc.Rcheck Warnings: 0