Package: wateRmelon Version: 2.4.0 Command: F:\biocbuild\bbs-3.16-bioc\R\bin\R.exe CMD INSTALL wateRmelon StartedAt: 2023-04-10 16:39:52 -0400 (Mon, 10 Apr 2023) EndedAt: 2023-04-10 16:41:02 -0400 (Mon, 10 Apr 2023) EllapsedTime: 69.8 seconds RetCode: 0 Status: OK