Package: wateRmelon Version: 2.4.0 Command: /Library/Frameworks/R.framework/Resources/bin/R CMD INSTALL wateRmelon StartedAt: 2023-04-10 15:38:39 -0400 (Mon, 10 Apr 2023) EndedAt: 2023-04-10 15:39:45 -0400 (Mon, 10 Apr 2023) EllapsedTime: 66.1 seconds RetCode: 0 Status: OK