Package: wateRmelon Version: 2.4.0 Command: /Library/Frameworks/R.framework/Resources/bin/R CMD build --keep-empty-dirs --no-resave-data wateRmelon StartedAt: 2023-04-10 18:23:16 -0400 (Mon, 10 Apr 2023) EndedAt: 2023-04-10 18:24:35 -0400 (Mon, 10 Apr 2023) EllapsedTime: 79.2 seconds RetCode: 0 Status: OK PackageFile: wateRmelon_2.4.0.tar.gz PackageFileSize: 3.249 MiB