Package: wateRmelon Version: 2.4.0 Command: rm -rf wateRmelon.buildbin-libdir && mkdir wateRmelon.buildbin-libdir && /Users/biocbuild/BBS/utils/build-universal.sh wateRmelon_2.4.0.tar.gz /Library/Frameworks/R.framework/Resources/bin/R wateRmelon.buildbin-libdir StartedAt: 2023-04-11 00:10:34 -0400 (Tue, 11 Apr 2023) EndedAt: 2023-04-11 00:11:31 -0400 (Tue, 11 Apr 2023) EllapsedTime: 56.7 seconds RetCode: 0 Status: OK PackageFile: wateRmelon_2.4.0.tgz PackageFileSize: 3.622 MiB