Package: vulcan Version: 1.20.0 Command: /home/biocbuild/bbs-3.16-bioc/R/bin/R CMD check --install=check:vulcan.install-out.txt --library=/home/biocbuild/bbs-3.16-bioc/R/site-library --timings vulcan_1.20.0.tar.gz StartedAt: 2023-04-11 00:50:19 -0400 (Tue, 11 Apr 2023) EndedAt: 2023-04-11 00:57:18 -0400 (Tue, 11 Apr 2023) EllapsedTime: 419.3 seconds RetCode: 0 Status: OK CheckDir: vulcan.Rcheck Warnings: 0