Package: vulcan Version: 1.20.0 Command: /Library/Frameworks/R.framework/Resources/bin/R CMD check --install=check:vulcan.install-out.txt --library=/Library/Frameworks/R.framework/Resources/library --no-vignettes --timings vulcan_1.20.0.tar.gz StartedAt: 2023-04-10 23:19:40 -0400 (Mon, 10 Apr 2023) EndedAt: 2023-04-10 23:25:08 -0400 (Mon, 10 Apr 2023) EllapsedTime: 328.5 seconds RetCode: 0 Status: OK CheckDir: vulcan.Rcheck Warnings: 0