Package: vsclust Version: 1.0.0 Command: /home/biocbuild/bbs-3.16-bioc/R/bin/R CMD build --keep-empty-dirs --no-resave-data vsclust StartedAt: 2023-04-10 18:32:16 -0400 (Mon, 10 Apr 2023) EndedAt: 2023-04-10 18:34:07 -0400 (Mon, 10 Apr 2023) EllapsedTime: 111.4 seconds RetCode: 0 Status: OK PackageFile: vsclust_1.0.0.tar.gz PackageFileSize: 3.266 MiB