Package: viper Version: 1.32.0 Command: /Library/Frameworks/R.framework/Resources/bin/R CMD build --keep-empty-dirs --no-resave-data viper StartedAt: 2023-04-10 18:22:21 -0400 (Mon, 10 Apr 2023) EndedAt: 2023-04-10 18:26:17 -0400 (Mon, 10 Apr 2023) EllapsedTime: 236.3 seconds RetCode: 0 Status: OK PackageFile: viper_1.32.0.tar.gz PackageFileSize: 503.2 KiB