Package: vidger Version: 1.18.0 Command: F:\biocbuild\bbs-3.16-bioc\R\bin\R.exe CMD INSTALL vidger StartedAt: 2023-04-10 16:39:22 -0400 (Mon, 10 Apr 2023) EndedAt: 2023-04-10 16:40:08 -0400 (Mon, 10 Apr 2023) EllapsedTime: 45.9 seconds RetCode: 0 Status: OK