Package: veloviz Version: 1.4.0 Command: F:\biocbuild\bbs-3.16-bioc\R\bin\R.exe CMD check --no-multiarch --install=check:veloviz.install-out.txt --library=F:\biocbuild\bbs-3.16-bioc\R\library --no-vignettes --timings veloviz_1.4.0.tar.gz StartedAt: 2023-04-11 07:08:15 -0400 (Tue, 11 Apr 2023) EndedAt: 2023-04-11 07:09:47 -0400 (Tue, 11 Apr 2023) EllapsedTime: 92.6 seconds RetCode: 0 Status: OK CheckDir: veloviz.Rcheck Warnings: 0