Package: veloviz Version: 1.4.0 Command: chmod a+r veloviz -R && F:\biocbuild\bbs-3.16-bioc\R\bin\R.exe CMD build --keep-empty-dirs --no-resave-data veloviz StartedAt: 2023-04-10 22:17:59 -0400 (Mon, 10 Apr 2023) EndedAt: 2023-04-10 22:18:24 -0400 (Mon, 10 Apr 2023) EllapsedTime: 24.2 seconds RetCode: 0 Status: OK PackageFile: veloviz_1.4.0.tar.gz PackageFileSize: 3.536 MiB