Package: unifiedWMWqPCR Version: 1.34.0 Command: /home/biocbuild/bbs-3.16-bioc/R/bin/R CMD build --keep-empty-dirs --no-resave-data unifiedWMWqPCR StartedAt: 2023-04-10 18:30:26 -0400 (Mon, 10 Apr 2023) EndedAt: 2023-04-10 18:30:36 -0400 (Mon, 10 Apr 2023) EllapsedTime: 10.0 seconds RetCode: 0 Status: OK PackageFile: unifiedWMWqPCR_1.34.0.tar.gz PackageFileSize: 492.8 KiB