Package: twilight Version: 1.74.0 Command: F:\biocbuild\bbs-3.16-bioc\R\bin\R.exe CMD INSTALL twilight StartedAt: 2023-04-10 15:36:03 -0400 (Mon, 10 Apr 2023) EndedAt: 2023-04-10 15:36:18 -0400 (Mon, 10 Apr 2023) EllapsedTime: 15.2 seconds RetCode: 0 Status: OK