Package: twilight Version: 1.74.0 Command: chmod a+r twilight -R && F:\biocbuild\bbs-3.16-bioc\R\bin\R.exe CMD build --keep-empty-dirs --no-resave-data twilight StartedAt: 2023-04-10 22:12:36 -0400 (Mon, 10 Apr 2023) EndedAt: 2023-04-10 22:14:00 -0400 (Mon, 10 Apr 2023) EllapsedTime: 83.8 seconds RetCode: 0 Status: OK PackageFile: twilight_1.74.0.tar.gz PackageFileSize: 949 KiB