Package: trena Version: 1.20.0 Command: /home/biocbuild/bbs-3.16-bioc/R/bin/R CMD check --install=check:trena.install-out.txt --library=/home/biocbuild/bbs-3.16-bioc/R/site-library --timings trena_1.20.0.tar.gz StartedAt: 2023-04-11 00:39:19 -0400 (Tue, 11 Apr 2023) EndedAt: 2023-04-11 00:50:31 -0400 (Tue, 11 Apr 2023) EllapsedTime: 671.8 seconds RetCode: 0 Status: WARNINGS CheckDir: trena.Rcheck Warnings: 3