Package: traseR Version: 1.28.0 Command: /home/biocbuild/bbs-3.16-bioc/R/bin/R CMD build --keep-empty-dirs --no-resave-data traseR StartedAt: 2023-04-10 18:28:27 -0400 (Mon, 10 Apr 2023) EndedAt: 2023-04-10 18:29:10 -0400 (Mon, 10 Apr 2023) EllapsedTime: 42.8 seconds RetCode: 0 Status: OK PackageFile: traseR_1.28.0.tar.gz PackageFileSize: 6.21 MiB