Package: tradeSeq Version: 1.12.0 Command: /home/biocbuild/bbs-3.16-bioc/R/bin/R CMD build --keep-empty-dirs --no-resave-data tradeSeq StartedAt: 2023-04-10 18:27:51 -0400 (Mon, 10 Apr 2023) EndedAt: 2023-04-10 18:34:48 -0400 (Mon, 10 Apr 2023) EllapsedTime: 416.3 seconds RetCode: 0 Status: OK PackageFile: tradeSeq_1.12.0.tar.gz PackageFileSize: 5.088 MiB