Package: timecourse Version: 1.69.0 Command: rm -rf timecourse.buildbin-libdir && mkdir timecourse.buildbin-libdir && /Users/biocbuild/BBS/utils/build-universal.sh timecourse_1.69.0.tar.gz /Library/Frameworks/R.framework/Resources/bin/R timecourse.buildbin-libdir StartedAt: 2022-07-07 09:21:31 -0400 (Thu, 07 Jul 2022) EndedAt: 2022-07-07 09:21:45 -0400 (Thu, 07 Jul 2022) EllapsedTime: 14.2 seconds RetCode: 0 Status: OK PackageFile: timecourse_1.69.0.tgz PackageFileSize: 941.8 KiB