Package: tilingArray Version: 1.76.0 Command: /home/biocbuild/bbs-3.16-bioc/R/bin/R CMD check --install=check:tilingArray.install-out.txt --library=/home/biocbuild/bbs-3.16-bioc/R/site-library --timings tilingArray_1.76.0.tar.gz StartedAt: 2023-04-11 00:33:07 -0400 (Tue, 11 Apr 2023) EndedAt: 2023-04-11 00:36:01 -0400 (Tue, 11 Apr 2023) EllapsedTime: 174.4 seconds RetCode: 0 Status: OK CheckDir: tilingArray.Rcheck Warnings: 0