Package: tigre Version: 1.52.0 Command: F:\biocbuild\bbs-3.16-bioc\R\bin\R.exe CMD INSTALL tigre StartedAt: 2023-04-10 16:29:27 -0400 (Mon, 10 Apr 2023) EndedAt: 2023-04-10 16:30:09 -0400 (Mon, 10 Apr 2023) EllapsedTime: 42.1 seconds RetCode: 0 Status: OK