Package: tigre Version: 1.52.0 Command: chmod a+r tigre -R && F:\biocbuild\bbs-3.16-bioc\R\bin\R.exe CMD build --keep-empty-dirs --no-resave-data tigre StartedAt: 2023-04-10 22:05:05 -0400 (Mon, 10 Apr 2023) EndedAt: 2023-04-10 22:07:39 -0400 (Mon, 10 Apr 2023) EllapsedTime: 154.8 seconds RetCode: 0 Status: OK PackageFile: tigre_1.52.0.tar.gz PackageFileSize: 318.5 KiB